BEGIN:VCALENDAR
VERSION:2.0
PRODID:-//eldiainternacional.com - ECPv6.15.20//NONSGML v1.0//EN
CALSCALE:GREGORIAN
METHOD:PUBLISH
X-WR-CALNAME:eldiainternacional.com
X-ORIGINAL-URL:https://eldiainternacional.com
X-WR-CALDESC:Eventos para eldiainternacional.com
REFRESH-INTERVAL;VALUE=DURATION:PT1H
X-Robots-Tag:noindex
X-PUBLISHED-TTL:PT1H
BEGIN:VTIMEZONE
TZID:America/Mexico_City
BEGIN:STANDARD
TZOFFSETFROM:-0600
TZOFFSETTO:-0600
TZNAME:CST
DTSTART:20230101T000000
END:STANDARD
END:VTIMEZONE
BEGIN:VEVENT
DTSTART;VALUE=DATE:20240721
DTEND;VALUE=DATE:20240722
DTSTAMP:20260421T181226
CREATED:20221005T161113Z
LAST-MODIFIED:20230920T010735Z
UID:398-1721520000-1721606399@eldiainternacional.com
SUMMARY:Día mundial del Perro
DESCRIPTION:Fecha de que se celebra: 21 de Julio\nLo proclama: Asociaciones de rescate de caninos\nComenzó a celebrarse: Desde 2004\n\nEl perro se ha caracterizado por ser el mejor amigo del hombre desde hace al menos dos siglos y estoy segura de que todos hemos tenido\, por lo menos uno\, que haya sido parte de nuestra vida.  \nSiendo así que cada 21 de Julio se celebra el día mundial del perro\, esta fecha que\, se estima\, es celebrada desde 2004\, ha llegado para celebrar a nuestros cachorros\, pero también para agradecer todo el amor que los caninos nos dan.  \nSigue leyendo y descubre todo sobre este día y cómo puedes celebrarlo con tu mascota. \n \n  \n¿Cómo se originó?\nAunque no se tiene un dato exacto sobre cómo pudo ser el origen de esta celebración\, se estima que se eligió esta fecha de Julio\, ya que en este mes las familias suelen salir de casa y por consecuente muchos caninos quedaban abandonados\, aun así\, no se sabe si esto sea cierto.  \nLo que podemos decirte es que es un día que ha servido (al parecer desde 2004) para ver la importancia de estos animalitos en nuestra vida. \n  \nImportancia del día\nLa importancia de este día va más allá de solo celebrar la vida y compañía de nuestro mejor amigo y fiel compañero. El día mundial del perro fue creado también para hacer conciencia sobre las altas cifras de abandono de estos pequeños y nobles animales.  \nAsí como para promover el cuidado y la adopción de lomitos\, la Organización Mundial de la Salud (OMS) estima que cerca del 70% de los perros en todo el mundo no tienen hogar\, una cifra bastante alarmante\, por lo que este día más que una celebración se ha centrado\, en su mayoría\, en ayudar a estos cachorros a encontrar una familia que cuide de ellos.  \n  \n¿Cómo celebrarlo y/o conmemorarlo?\nTú también puedes ser parte de este día\, ya sea celebrando a tu mascota\, ayudando a la causa a través de la adopción o simplemente haciendo una donación. La verdad es que hay muchas formas de conmemorar a los perritos.  \nIdeas de qué hacer\nNo existe una manera única de unirte a esta celebración\, en la actualidad hay mucho que puedes hacer.  \nAquí te dejo algunas ideas para celebrar \nCómprale un regalo: Si eres dueña (o) de un lomito\, puedes optar por darle un regalo\, un pequeño detalle que haga sentir a tu mascota\, el amor que tienes por él puede ser un juguete\, un accesorio\, un premio\, etc.  \nMás abajo te dejo mi lista de los mejores regalos que puedes comprar en Amazon. \nVayan de paseo: Este día es ideal para llevar a tu perro a un paseo diferente al que hacen a diario\, puedes optar por ir en el auto a un parque o simplemente tomar una ruta distinta o un poco más larga. Recuerda llevar agua por si se cansa y algo para levantar sus heces si es que hace del baño y lo más importante\, no recorrer distancias muy por encima de lo que tu perro está acostumbrado. \nTengan una tarde de juegos: Para estos pequeños (o grandes) amigos\, tener tiempo para jugar será su máximo\, también puedes aprovechar este tiempo para enseñarle algún truco.  \nCelebren en con otros perritos: ¿Alguien dijo fiesta perruna? Este día también es ideal para hacer una pequeña reunión con tus amigos que tengan un perro como mascota\, además\, tu lomito podrá interactuar con los de su especie.  \nRegala cuidado: También se vale demostrar tu amor a través del cuidado y una revisión es un gran regalo para ambos\, también una esterilización puede ser el mejor regalo\, es más\, hasta es probable que por la fecha encuentres alguna campaña que lo haga a mejor costo o hasta gratis.  \nAdopta: El dejar de comprar cachorros hace un gran cambio\, pues al adoptar estás  reduciendo la cifra de perritos sin hogar\, si puedes adoptar un perrito mayor\, ¡mejor! Pues estos son los que más se quedan en los refugios.  \nApadrina: Si eres una persona que no puede tener en casa una mascota\, sea cual sea la razón\, puedes optar por apadrinar a un perro ya sea de la calle o en algún refugio. El apadrinamiento es apoyar ya sea económicamente o en especie a un lomito\, verás que esta acción te hará sentir mucho mejor. \nHaz voluntariado: Investiga sobre los centros de acogida o refugios de tu ciudad y apoya haciendo actividades o recaudando fondos\, esta acción será un excelente regalo para los cachorros. \n¿Cómo celebrarlo en Redes Sociales?\nPuedes usar las redes sociales para difundir la celebración del día y también ayudar a que esta iniciativa tenga mejor alcance.  \nCompartir imágenes\, videos o historias que hablen del tema es una buena opción y claro también posteando una foto con tu mejor amigo perruno. ¡Llenemos las redes sociales de este día! \n¿Cómo apoyar asociaciones o personas relacionadas con el día?\nComo mencioné en las ideas para celebrar el día mundial del perro\, tú también puedes ser parte de esta celebración aportando algo\, ya sea haciendo un donativo o siendo voluntario en asociaciones de cuidado animal.  \nAquí te dejo un enlace a Ubicapet\, donde tienen un directorio con asociaciones para la ayuda a perros en México y también esta página que muestra un mapa de 22 refugios para perros en América Latina y el Caribe. \nIdeas de regalos\n¿A quién no le gustan los regalos? Exacto\, ahora imagina a tu lomito siendo mil veces más feliz al ver que tienes algo que darle. \nPrepárate (y también prepara tu cartera) para ver la lista de regalos que estoy segura le encantarán a tu perrito o perrita. Algunos han sido aprobados por mí (muy exigente) perrhija Ramona\, una Yorkshire Terrier de 7 años.  \nUn nuevo lugar de descanso\nEsta cama elevada es ideal para las siestas de tu mascota y lo mejor es que hay en todos los tamaños\, *mueve la cola de emoción* \nAmazon Basics – Cama elevada para mascotas\, mediana\, 109 cm x 66 cm x 19 cm\, Varios colores\n  \nComprar aquí \nSi tu mascota no es fan de las camas elevadas\, seguro esta opción más suave será ideal y\, ¿qué crees? También está disponible en diferentes tamaños y colores. \nALEBRIPETS Cama para Perro\, Exterior a Prueba de Agua\, cómoda\, Lavable\, Resistente\n\nComprar aquí \n  \nQue la hora del juego sea más interesante \nUn dispensador de premios que también es un juguete. Jugar y comer será el sueño de tu mascota \nStarMark Bob-A-Lot Juguete Interactivo para Mascotas\, Grande\, Amarillo/Verde/Morado\nComprar aquí \n  \nUna pelota interactiva que mantiene a tu mascota entretenida\, además es resistente y suena. ¿Qué esperas para comprar una? \nWobble Wag Giggle Pelota\, Juguete Interactivo para Perros\, Divertidos Sonidos de risita\, como se ve en la televisión\nComprar aquí \n  \nUn peluche nunca falla y este será un gran obsequio para cualquier can y estoy segura de que si tienes más de un perro\, van a pelar por este peluche de mono. \nKONG Peluche Mono Extra Grande para Jalar y Chirrido\nComprar aquí \n  \nLos mejores accesorios para tu perrhijo\nAgradecida que ya encontramos a la venta accesorios tan útiles como esta bolsa de viaje\, que no solo tiene varios compartimentos\, también trae dos recipientes plegables y es todo lo que necesitas para esos días fuera de casa con tu mascota. Ok\, creo que tenemos el regalo ganador. \nBolsa de viaje para perros aprobada por aerolíneas\nComprar aquí \n  \nY hablando de viajes\, este asiento de coche será tu salvación para mantener a tu lomito tranquilo mientras van en el auto. Recuerda que su seguridad es muy importante. \nFEANDREA Asiento de Coche para Perros\, Asiento Elevador para Perros Pequeños\nComprar aquí \n  \nRegalos ideales para cuando tu mejor amigo debe quedarse solo en casa \nUna cámara que te ayudará a ver a tu perrhijo y que también es un dispensador de premios\, creo que ya estamos en el 2034. El futuro es hoy\, ¿Oíste viejo? \nFurbo Cámara para Perros Lanzamiento de premios\, Cámara para Mascotas HD WiFi y Audio bidireccional\nComprar aquí \n  \nFrases sobre perros\n\n“Todos los hombres son dioses para su perro. Por eso hay gente que ama más a sus perros que a los hombres”. Aldous Huxley.\n“Para disfrutar en verdad de un perro\, no se debe tratar de entrenarlo para que sea semihumano. El punto es abrirse uno\, a la posibilidad de ser más perro”. Eduard Hoagland.\n“El perro es parte del hombre”. Albert Brahm.\n“Una vida sin perro es un error”. Carl Zuckmayer.\n“Los perros son buenos amigos\, no hacen preguntas y tampoco critican”. George Elliot. \n“El perro\, posee belleza sin vanidad\, fuerza sin insolencia\, valentía sin ferocidad\, y todas las virtudes del hombre y ninguno de sus vicios” Lord Byron.\n“Para hacer ejercicio\, pasee con alguien que le acompañe de buen grado\, preferentemente un perro”. David Brown. \n“Los perros no son todo en nuestra vida\, pero ellos la hacen completa”. Roger Caras. \n“No hay psiquiatra en el mundo como un cachorro lamiéndote la cara”. Ben Williams.\n“Al principio Dios creó al hombre\, y viéndole tan débil\, le dio el perro”. Toussenel.\n“Nadie aprecia el genio innato de tu conversación como lo hace tu perro”. Christopher Morley.\n“Un perro es la única cosa en la Tierra que te amará más de lo que tú te amas a ti mismo”. Josh Billings.\n\n  \nFamosos celebrando el día del perro\nMónica Cruz \n \n  \nHugo Silva \n \n  \nAmanda Seyfried \n \n  \nChris Evans \n \n  \nHenry Cavill \n \n  \nThe Muppets \n \n  \nTony Bennett \n \n  \nLilly Téllez \n \n  \nDatos relevantes sobre el día \nTambién existen otras fechas relevantes sobre perros \n\nNo solo el 21 de Julio es fecha de celebración para los perros\, existen otros días para celebrar a los lomitos.\n28 de Mayo Día del perro sin raza: Este día va dedicado a todos los lomitos mestizos\, para recordar que el amor perruno no tiene raza y recordar que estos amigos peludos son únicos y tienen mucha originalidad. \n 21 de junio: Día de llevar al perro a la oficina: Esta celebración nació en Reino Unido cerca de 1996 y se ha ido extendiendo a otras partes del mundo con el objetivo de promover la adopción de animales.\n 27 de julio: Día Internacional del perro callejero: Comenzó a celebrarse en 2008 y busca recordar que siempre podemos ayudar a los lomitos en situación de calle\, ya sea brindándoles un hogar o darles alimento\, cobijo y sobre todo afecto.\n23 de septiembre: Día del perro adoptado: Adoptar es un acto de bondad y amor también para los perritos\, esta celebración tiene como objetivo fomentar la adopción en refugios y perreras\, sin importar la raza o edad. \n6 de diciembre: Día del perro de trabajo: También celebramos a todos esos perritos trabajadores que día a día se dedican a ayudar a las personas\, esta iniciativa se crea con la finalidad de reconocer el gran trabajo de esos lomitos que son policías\, perros de rescate\, perros de terapia\, perros detectores de sustancias\, etc. \n\nDatos curiosos sobre perros \n\nEl perro más alto del mundo mide 111 cm de alto. Un gran danés llamado Zeus y es el actual poseedor del récord mundial Guinness.\nUn galgo podría vencer a un guepardo en una carrera de larga distancia\, pues son excelentes corredores\, pueden alcanzar una velocidad de 64 km/h en 12 metros.\nLa canción de los Beatles “A Day in the Life” tiene una frecuencia que solo los perros pueden escuchar. En 2013\, Paul McCartney dijo que agregó una frecuencia que solo los perros pueden escuchar al final de la canción.\n30% de los dálmatas son sordos de un oído y 5% son sordos en ambos. Pero los dálmatas con manchas oscuras más grandes tienen menos probabilidades de ser sordos.\nLas razas Chow y Shar-Pei son las dos únicas que tienen lenguas totalmente negras.\nLos cachorros recién nacidos no sacuden la cola\nLos perros tienen el sentido del oído tan desarrollado que pueden escuchar sonidos desde una distancia de 225 hasta 230 metros.\nEn 1944 nació la mayor camada de perros en la historia\, una American Foxhound se hizo madre de 24 hermosos cachorros.\nAlemania tiene su perro nacional y este es el Gran Danés\nLos perros se pueden enamorar\, debido a que su cerebro libera oxitocina\, conocida como la hormona del amor\, y esto pasa cada vez que ven a su dueño.\nEstados Unidos es uno de los países donde existen perros millonarios\, los cuales heredaron una gran fortuna por parte de sus dueños.\nLos perros y los humanos comparten un 75% del código genético.\nTodos los perros tienen unas 100 expresiones faciales\, las cuales son en su mayor parte hechas por sus orejas.\n\nRécords\nRécords Guinness ganados por perros\nEl perro con la lengua más larga del mundo \nPuggy\, un pequinés\, ganó este récord al tener una lengua de 11\,43 cm. \n \n  \nLa perra viva más longeva del mundo \nPebbles ganó este 2022 este récord al llegar a los 22 años y 50 días de vida. \n \n  \nEl perro con más número de pelotas en la boca \nAugie\, un golden retriever de Dallas\, consiguió meterse 5 pelotas de tenis al mismo tiempo en la boca. \n \n  \nEl perro más alto del mundo \nA Zeus\, un gran danés norteamericano\, ganó este récord con 1118\,8 centímetros hasta la parte de los hombros. \n \n  \nEl perro más pequeño del mundo \nMilly un perro Chihuahua que vive en Puerto Rico mide solo 9\,65 cm. \n \n  \nEl perro más rápido en skate \nEste récord se lo lleva Tillman\, un perro bulldog inglés que fue capaz de recorrer 100 metros en 19.678 segundos. \n \n  \nEl perro con las orejas más grandes del mundo \nHarbor es un perro coonhound con una oreja izquierda de 31\,10 cm y la oreja derecha con 34\,30 cm. \n \n  \nEl perro con el salto más alto \nCinderella May fue capaz de saltar una altura de 172\,7 cm. \n \n  \nEl perro más caro del mundo \nDo Khyi es un mastín rojo que costó 1.5 millones de dólares. \n \n  \nPelículas\nSin duda El cine nos ha presentado historias tan increíbles donde los perros son los protagonistas y estoy segura de que más de una te habrá hecho reír o llorar. \nEstas son las películas más emotivas sobre perros\, es probable que alguna de estas te saque una o varias lágrimas\, pero la verdad vale la pena verlas. \nLa razón de estar contigo (2017) \nUn perro desea descubrir el propósito de su vida al enseñar a reír y amar a seres humanos a lo largo de varias vidas. \n \n  \nMarley y yo (2008) \nJohn y Jenny deciden dejar atrás los duros inviernos de Míchigan para iniciar sus nuevas vidas en la soleada West Palm Beach\, donde adoptan a un perro incorregible que cambiará sus vidas. \n \n  \nSiempre a tu lado (2009)\nLa historia de Hachiko un akita que acompaña cada mañana a su amo a la estación de tren y regresa cada tarde para darle la bienvenida después del trabajo. Sin embargo\, esta rutina se ve rota por una desgracia. \n \n  \nMis huellas a casa (2019)\nLa odisea de Bella\, una perra que recorre 650 kilómetros para reencontrarse con su dueño\, Lucas\, un estudiante de Medicina. En el camino\, Bella vivirá aventuras asombrosas. \n \n  \nFrankenweenie (2012)\nEl experimento científico que lleva a cabo el pequeño Víctor Frankenstein para hacer resucitar su adorado Sparky le obligará a afrontar terribles situaciones con imprevisibles consecuencias. \n \n  \nIsla de perros (2018)\nEl alcalde de una ciudad japonesa decreta que\, con motivo de una epidemia de gripe canina\, todos los perros deben quedar confinados en una isla. Un niño de 12 años emprende una aventura para llegar hasta la isla y rescatar a su mascota. \n \n  \nChestnut (2004) \nDos hermanas adoptadas intentan ocultar a un perrito en un edificio neoyorquino donde los perros están prohibidos y viven una bonita aventura al conservarlo. \n \n  \nMi amigo Enzo (2019)\nUn perro llamado Enzo rememora las lecciones que ha aprendido de Denny\, su dueño y un reconocido piloto de carreras. \n \n  \n  \n \n  \nComparte en Redes Sociales\nNo olvides que las redes sociales son una gran ayuda para visibilizar estos días y las causas detrás de su creación\, aquí tienes dos imágenes que puedes utilizar para tus redes sociales. \n \n  \n \n  \nLos mejores memes de perritos\nNo podíamos dejar de celebrar a nuestros preciosos lomitos sin dedicarles una gran y excelente recopilación de memes\, me di a la tarea de buscar los mejores  memes del internet de las cosas y aquí los tienes.  \nLa verdad es que sabemos que en el fondo si nos protegen: \n \n  \nEspera firulais\, estoy tratando de ser fit: \n \n  \nEste me da risa pero\, recuerden no darle comida que no pueden comer a sus mascotas: \n \nMejor comprale las mejores croquetas a tu cachorro. \nCuando simplemente sabes que eres el favorito: \n \n  \nFirulais se ha vuelto el mejor de la clase: \n \n  \nHumano\, algo huele mal y no soy yo… \n \n  \nNada más no te vayas a alocar… \n \n  \nHumano\, necesito amor: \n \n  \nTenemos al dueño ganador\, repito tenemos un ganador: \n \n\nEventos relacionados \nDía mundial del gato
URL:https://eldiainternacional.com/evento/dia-mundial-del-perro/
LOCATION:Mundial
CATEGORIES:Julio
ATTACH;FMTTYPE=image/jpeg:https://eldiainternacional.com/wp-content/uploads/2022/09/dia-del-perro.jpg
END:VEVENT
END:VCALENDAR