BEGIN:VCALENDAR
VERSION:2.0
PRODID:-//eldiainternacional.com - ECPv6.15.20//NONSGML v1.0//EN
CALSCALE:GREGORIAN
METHOD:PUBLISH
X-ORIGINAL-URL:https://eldiainternacional.com
X-WR-CALDESC:Eventos para eldiainternacional.com
REFRESH-INTERVAL;VALUE=DURATION:PT1H
X-Robots-Tag:noindex
X-PUBLISHED-TTL:PT1H
BEGIN:VTIMEZONE
TZID:America/Mexico_City
BEGIN:STANDARD
TZOFFSETFROM:-0600
TZOFFSETTO:-0600
TZNAME:CST
DTSTART:20230101T000000
END:STANDARD
END:VTIMEZONE
BEGIN:VEVENT
DTSTART;VALUE=DATE:20240104
DTEND;VALUE=DATE:20240105
DTSTAMP:20260425T204539
CREATED:20230124T172658Z
LAST-MODIFIED:20230920T014549Z
UID:1351-1704326400-1704412799@eldiainternacional.com
SUMMARY:Día Mundial del Braille
DESCRIPTION:Fecha de celebración: 04 de Enero\nQuien lo proclamó: La asamblea general de las naciones unidas\nDesde cuándo se celebra o conmemora: Desde 2019\n\nEl Braille es el sistema alfabético en relieve para las personas invidentes y con deficiencia visual que funciona a través de seis puntos que representan las letras y también los números. \nEsta forma de lenguaje es el medio de comunicación para estas personas y en la actualidad el Braille ha sido llevado a objetos de la vida cotidiana con la intención de hacer parte de la sociedad a las personas que padecen ceguera parcial o total. \n \nCómo se originó\nEl día mundial del Braille se originó en 2018 cuando la asamblea general de las naciones unidas decidió elegir el 04 de enero para conmemorar la fecha de nacimiento de Louis Braille el pionero y creador de esta forma de comunicación que desde 2019 es celebrada a nivel mundial.  \nCuál es la Importancia del día\nEste día es conmemorado con el objetivo de crear mayor conciencia y enaltecer la importancia del braille como sistema y medio de comunicación para las personas ciegas y con deficiencia visual. \nCómo celebrarlo y/o conmemorarlo\nEn el día mundial del braille puedes enfocarte en difundir lo que es el braille y la importancia de este sistema alfabético para crear mayor conciencia y que más personas sepan lo fundamental que es hoy en día en nuestra sociedad. \n Ideas de qué hacer\nPuedes hacer diferentes actividades para celebrar este día\, en esta lista puedes encontrar algunas ideas para celebrar el día mundial del braille.  \n\nComparte información de este día y sobre la importancia del braille \nMuestra tu apoyo a una persona con deficiencia visual\nInfórmate y aprende más sobre este sistema de comunicación \nRealiza una limpia de señalamientos públicos que estén en braille\nBusca un regalo en braille para una persona que padezca de deficiencia visual\nApoya alguna asociación u organización que enseñe el sistema braille \n\nCómo celebrarlo en Redes Sociales\nUsa tus redes sociales como un medio informativo para difundir el día mundial del braille\, puedes hacerlo compartiendo información del día y sobre el funcionamiento del braille\, también puedes compartir imágenes o infografías como las que te dejo más abajo en este artículo. \n \n \n \nCómo apoyar asociaciones o personas relacionadas con el día\nPuede que si no conoces  a una persona con deficiencia visual\, no sepas mucho sobre el sistema braille o sobre alguna asociación que lo enseñe o apoye a personas ciegas. Seguramente en tu ciudad habrá alguna escuela u organización referente\, puedes acudir directamente a ellas\, a algún centro de salud especialidad o a un hospital y preguntar por algunas e informarte sobre cómo puedes ayudar.  \nCómo se celebra en otros lugares \nAsí es la enseñanza de Braille en México  \n \nAsí es como enseñan braille en Kenia  \n \nFrases y personalidades \nFrases de personalidades\nFrases de Louis Braille  \n\n“El braille es conocimiento y el conocimiento es poder.”\n“Ayer fue uno de los mejores y más hermosos días de mi vida. Probé los más grandes placeres. Dios me complació y me mostró las deslumbrantes maravillas de la esperanza eterna. Después de eso\, ¿no parecerá que no existe nada que me podría mantener atado a este mundo?”\n“Cuando has experimentado los sacramentos\, te das cuenta de la majestuosidad y el poder de la religión. ”\n“No necesitamos lástima del mismo modo que no necesitamos que nos recuerden que somos vulnerables. Debemos ser tratados como iguales\, y la comunicación es la que puede traernos esto.”\n“Vive sin ver\, pero siendo tú mismo.”\n“El acceso a la comunicación en su sentido más amplio es el acceso al conocimiento y eso es de vital importancia para nosotros (los ciegos). ”\n\nPosts de Redes Sociales \nPosts para Facebook\n \n \n  \n \nPosts para Twitter\n\n04 DE ENERO DÍA MUNDIAL DEL BRAILL\nEl día mundial del braille se conmemora con el fin de crear mayor conciencia sobre la importancia del braille como medio de comunicación para la plena realización de los derechos humanos de las personas con discapacidad visual. pic.twitter.com/SB0lKnSo0d \n— Servicios de Salud (@ssaslp) January 4\, 2021 \n \n  \n\nHoy celebramos el “Día Mundial del sistema Braille” en honor a Luis Braille\, su inventor\, que nació el 4 de enero de 1809 #DíaMundialBraille pic.twitter.com/lXt1Yr9y0u \n— conadis_mx (@CONADIS_MX) January 4\, 2017 \n \n\nDía Mundial del Sistema Braille\nLouis Braille\, nació el 4 de enero en 1809.\n¡Seis puntos que cambiaron la vida de las personas ciegas! #DíaMundialBraille pic.twitter.com/BOFT9L9Ont \n— Espacio del Caracol (@espaciodcaracol) January 4\, 2018 \n \nDatos relevantes sobre el día \nDatos curiosos\n\nLa primera versión del Braille salió a la luz en 1829. Fue Louis Braille quien al quedar ciego a temprana edad decidió tomar las bases de un sistema existente en la época y mejorarlo. \nFue hasta 1916 que el sistema braille llegó a América del Norte y luego al resto del mundo.\nEl alfabeto braille se adapta a los idiomas\, en el español se modificó para agregar las tildes y la letra ñ. \nExiste un muñeco que ayuda a los niños a familiarizarse con el braille\, se llama Braillín y fue creado en Argentina. Este muñeco  cuenta con seis puntos en relieve distribuidos en 2 columnas de 3 para cada símbolo o letra. \nLas personas sin dificultades visuales también pueden leer el braille\, se dice que esto ayuda a mejorar las habilidades psicomotrices.\n Existe un código braille especial para escribir matemáticas\, este se llama código Nemeth y fue inventado por Abraham Nemeth\, un profesor de matemáticas ciego.\n\nPelículas\nAmor en Braille (2016)  \n \nEsta película trata de la vida de Marie quien sufre de una enfermedad ocular degenerativa y que después es enviada a una escuela para personas con deficiencias visuales y ahí es donde ella demuestra sus habilidades en la música y se desencadena una bonita historia de amor. \nLa maestra milagrosa (1962)  \n \nEn este clásico se muestra la vida de una mujer que sufre de ceguera y sordera que al no conocer el sistema braille pasa sus días excluida al no poder comunicarse con los demás\, lo que desencadena una serie de hechos oscuros para ella. Hasta que su familia decide enviarla a una escuela especial para ciegos\, donde todo se torna mejor para ella al conocer a una maestra que le enseña a comunicarse.  \nPerfume de mujer (1992) \n \nUn clásico del cine con Al pacino que da vida a un militar retirado que sufre de ceguera y que le cuesta poder comunicarse con terceros y que después conoce a su guía charlie y lo lleva a pasar una aventura maravillosa en Nueva York y enseñarle los placeres de la vida. \nRay (2004)  \n \nEsta película biográfica cuenta la vida de Ray Charles\, un niño pobre y ciego que fue capaz de cambiar el curso de la música estadounidense cuando decidió cruzar el país para entrar en la escena de jazz de Seattle. \n 
URL:https://eldiainternacional.com/evento/dia-mundial-del-braille/
LOCATION:Mundial
CATEGORIES:Enero
ATTACH;FMTTYPE=image/jpeg:https://eldiainternacional.com/wp-content/uploads/2023/01/dia-mundial-del-braille.jpg
END:VEVENT
END:VCALENDAR