BEGIN:VCALENDAR
VERSION:2.0
PRODID:-//eldiainternacional.com - ECPv6.15.20//NONSGML v1.0//EN
CALSCALE:GREGORIAN
METHOD:PUBLISH
X-WR-CALNAME:eldiainternacional.com
X-ORIGINAL-URL:https://eldiainternacional.com
X-WR-CALDESC:Eventos para eldiainternacional.com
REFRESH-INTERVAL;VALUE=DURATION:PT1H
X-Robots-Tag:noindex
X-PUBLISHED-TTL:PT1H
BEGIN:VTIMEZONE
TZID:America/Mexico_City
BEGIN:STANDARD
TZOFFSETFROM:-0600
TZOFFSETTO:-0600
TZNAME:CST
DTSTART:20230101T000000
END:STANDARD
END:VTIMEZONE
BEGIN:VEVENT
DTSTART;VALUE=DATE:20240102
DTEND;VALUE=DATE:20240103
DTSTAMP:20260425T171020
CREATED:20230116T191426Z
LAST-MODIFIED:20231011T170925Z
UID:1307-1704153600-1704239999@eldiainternacional.com
SUMMARY:Día Internacional del Policía
DESCRIPTION:Fecha de que se celebra: 2 de enero\nLo proclama: Autoridades Mexicanas \nComenzó a celebrarse: 1932\n\nCada 2 de enero se celebra el Día Internacional del Policía\, un homenaje a los funcionarios policiales en servicio y fallecidos en el cumplimiento de su deber con compromiso y dedicación\, encargados de brindar seguridad al ciudadano y mantener el orden público\, los efectivos policiales juegan un papel fundamental en la sociedad. \n \n¿Cómo se originó?\nEl Día del Policía\, es una conmemoración que tiene origen el  2 de enero de 1927 en el penal de Andonegui\, en Tamaulipas\, México. Producto de un enfrentamiento entre presos de aquel centro penitenciario\, varios efectivos fueron asesinados. \nEn honor a estos policías que fallecieron en el cumplimiento de su deber se comenzó a celebrar este día internacional a partir del año 1932\, siendo conocido inicialmente como Día del Gendarme. Posteriormente se cambió su denominación a Día Internacional del Policía. \nImportancia del día de la policía\nEl objetivo de esta celebración es homenajear a los policías que aún están en servicio y también a aquellos fallecidos en el cumplimiento de su deber\, la labor de los policías implica exponer sus vidas cada día\, además de compromiso y dedicación. \nHay que señalar que ser policía es uno de los oficios más peligrosos del mundo\, ya que constantemente se enfrentan a peligrosos delincuentes\, grupos del crimen organizado\, así como a personas influyentes y corruptos. Aquellos que lamentablemente perdieron la vida durante su labor son homenajeados durante este Día Internacional del Policía. \n \n¿Cómo celebrarlo y/o conmemorar?\nDurante este día puedes realizar pequeños gestos para mostrar apoyo a esta celebración.  \nFormas en que podrías celebrar el día: \n\nUsa ropa azul en apoyo de los oficiales de policía.\nOrganiza un evento en tu comunidad para apoyar a los policías.\nDi  “gracias” a cualquier oficial de policía con el que entres en contacto.\nCompra una taza de café a un oficial. \n\nCómo conmemorar este día en Redes Sociales\n Si no tienes las posibilidades de participar en actividades de manera presencial en este día\, utiliza las redes sociales en las siguientes dinámicas: \n\nComparte una historia centrada en la ayuda que recibiste tú o algún allegado por parte de un oficial policiaco.\nComparte una frase o imagen alusiva al día.\nComparte un pensamiento o reflexión sobre esta profesión y el riesgo que conlleva.\n\nAlgunos de los hashtag  que puedes usar para celebrar este día en redes sociales son:  \n#DíadelPolicia | #DíaInternacionaldelPolicia | #FelízDíadelPolicia  \nConmemoran este día publicando imágenes\, infografías o vídeos\, expresa tus puntos de vista y reflexiona acerca de la importancia de este día. \n Aquí te dejo algunas imágenes para compartir: \n \n \nCuando se celebra en otros países el día de los policías\nCabe mencionar que aunque el 2 de enero se conmemora el Día Internacional de la Policía\,  \nhay países que también tienen una fecha  de forma Nacional y utilizan otro tipo de nombres: \n\nArgentina: El 19 de abril se celebra el Día Nacional del Policía.\nVenezuela: Se celebra el Día Nacional del Policía cada 16 de julio\, en honor a la Virgen del Carmen\, patrona del Ejército venezolano. \nColombia: El 5 de noviembre se celebra el Día de la Policía Nacional de Colombia.\n Perú: se celebra el 6 de diciembre.\n\nFrases y personalidades sobre la policía\nFrases de personalidades sobre el Día Internacional del Policía\n\nNo hay límite de tiempo para el servicio policial\, ya que se mantienen de pie las 24 horas del día\, los 7 días de la semana para brindar orientación y ayuda a las personas que podrían quedar atrapadas en este mundo del crimen\, gracias a todas aquellas personas en uniforme que cumplen con su deber. -Anónimo.\n​​Los agentes de la ley nunca están ‘fuera de servicio’. Son servidores públicos dedicados que han jurado proteger la seguridad pública en cualquier momento y lugar en que la paz se vea amenazada. Necesitan toda la ayuda que puedan conseguir. Bárbara boxeadora\n\n\nUn cuerpo de policía\, esté donde esté\, está formado por gente maravillosa\, y yo los respeto mucho. -Nancy Mackeon \nPermítanme ser claro: nadie está por encima de la ley. Ni un político\, ni un cura\, ni un criminal\, ni un policía. Todos somos responsables de nuestras acciones. -Antonio Villaraigosa \n\n  \nPersonalidades que apoyan este día\nFamosos y cuerpos policiacos han unido fuerzas para diferentes campañas sociales. Aquí algunos ejemplos de ellos.  \nIker Casillas ha colaborado en diversas campañas de índole social con la Policía Nacional de España.  \n  \n\n#Grac1as a ti\, Iker Casillas\, por habernos regalado tantos momentos y habernos hecho disfrutar del deporte⚽️ \nSiempre has sido un ejemplo y siempre serás una leyenda. \nAh\, si te sigue picando el gusanillo de ser @policia\, ahora hay 2491 plazas 😉😉https://t.co/SriuQgUND5 https://t.co/StaJA8Zb3v pic.twitter.com/rBE9Rvk9T9 \n— Policía Nacional (@policia) August 4\, 2020 \n \nArtistas\, presentadores y deportistas colaboran en la campaña ‘Doce Campanadas de seguridad en Internet’ que buscaba prevenir a los ciudadanos de los posibles peligros en internet. \n  \n\nLa #PolicíaNacional lanza la campaña ‘Doce Campanadas de Seguridad en Internet’ – https://t.co/anJV7R7tHO pic.twitter.com/rK9vzVsNhD \n— Actualidad 21 (@Actualidad21) December 21\, 2015 \n \nPosts Facebook\, Twitter\, Pinterest\nFacebook\n \n \n  \n \nTwitter\n  \n\nLa carrera del #DíaDelPolicía es una tradición invaluable que se ha afianzado en el estado de #Querétaro año con año\, con el objetivo de fomentar la cultura física en nuestros elementos y promover la unidad entre las corporaciones de seguridad que integran la #PolicíaQueretana pic.twitter.com/Rfvzsf18hJ \n— Dr. Juan Martín Granados Torres (@Dr_JuanMartinGT) December 5\, 2022 \n \n  \n\nReconozco y felicito al Policía Anticorrupción\, Gerardo de Jesús\, quien esta mañana consiguió el 3er Lugar en la 14va Carrera del #DíaDelPolicía\, en la categoría de 10 km. \nEnhorabuena para todas y todos los participantes que demuestran su entrega y compromiso por #Querétaro. pic.twitter.com/dPDcSrMSMy \n— Benjamín Vargas Salazar (@benvargas79) December 4\, 2022 \n \nDatos relevantes sobre el Día de la Policía\n\nEn cada país\, la sede nacional de INTERPOL (OCN) sirve de punto de contacto para la Secretaría General y las demás OCN. Las OCN están dirigidas por funcionarios de la policía nacional y suelen formar parte del ministerio gubernamental responsable de las actividades policiales.\n\n\nDe todos los delitos\, sólo alrededor del 10% se denuncian a la policía.\n\n\nMás de 200.000 casos de asesinatos permanecen sin resolver desde 1980\, solo en Estados Unidos.\n\n\nEl Código de Hammurabi es uno de los primeros intentos\, y tal vez el más conocido\, de establecer una escala de castigo para los crímenes.\n\n\nLa palabra “detective” como persona resuelve-crímenes\, se usó por primera vez en 1843.\nEl primer uso conocido de la frase “historia de detectives” fue en 1883 en el título de una historia escrita por la autora estadounidense Anna Katharine Green.\nEl primer detective literario fue probablemente C. Auguste Dupin en la historia corta de 1841 de Edgar Allan Poe ‘Asesinatos en la calle Morgue’\, quien se pudo haber inspirado en las memorias de Eugène Vidocq de la agencia de detectives Sûreté.\nLa mujer en blanco (1859) de Wilkie Collins fue la primera novela de detectives de larga duración.\nUno de los grandes misterios de las novelas policíacas es la identidad del autor de The Notting Hill Mystery (1862-63)\, que aún no se conoce con certeza.\nEl gran escritor estadounidense de novela negra\, Raymond Chandler\, decía que “Un detective realmente bueno nunca se casa”.\n\nImágenes e Infografías relacionadas Día mundial del Policía\nLa Policía Federal desfilará en la CDMX el Día de Reyes. \n \nPolicía montada participa en el desfile del día del St Patrick en Nueva York. \n \nUso de armas de fuego por parte de la policía. \n \nFuerza policiaca en México.  \n \nPolicía y sociedad. \n \nPolicía Robotizada en el mundo. \n \nEstadísticas\n Estadísticas relacionadas al Día mudial de la Policía\n\n\nDesde México a Argentina\, un promedio del 49% de los latinoamericanos y caribeños encuestados dicen confiar en la policía del lugar donde residen\, mientras que esta cifra se sitúa en un 71% a nivel global\, más de 20 puntos porcentuales por encima del promedio latinoamericano.\n\n\nUruguay\, donde un 75% de las personas que participaron en el sondeo tienen una imagen positiva de la policía.\n\nEn 2020\, el mundo obtuvo un puntaje de 82 de 100 posibles en el Índice de Ley y Orden\, lo que significa que las personas básicamente se sintieron tan seguras como desde 2017\nMás de siete de cada 10 adultos en todo el mundo (71 %) en 2020 dijeron que tenían confianza en su policía local.\nEl 34% en Bolivia confía en su policía local.\n\n \n \n \n \n \n \nRécords de Policías\nMás de 300 hombres y mujeres policías\, de la Secretaría de Seguridad Ciudadana (SS)\, rompieron el Récord Guinness durante la clase masiva de box\, ocurrida en el zócalo capitalino de la Ciudad de México. \nLa ciudad de Dubai obtuvo un certificado de Guinness World Records por tener el auto de policía en servicio más rápido del mundo\, un Bugatti Veyron\, siendo solo uno de los 14 carros deportivos de su flota de vehículos. \n \nPelículas y series famosas sobre Policías\nDuro de Matar \n \nValoración rottentomatoes 94% puntuación de la audiencia \nUn grupo terrorista se apodera de un edificio de Los Ángeles y toma a un grupo de personas como rehenes. El policía de Nueva York John McClane consigue escapar del acoso terrorista. Aunque está solo y fuera de servicio\, McClane decide enfrentarse a los secuestradores y se convierte en la única esperanza para los rehenes. \nCara a Cara  \n \nValoración rottentomatoes 92% puntuación de la audiencia \nUn peligroso terrorista a punto de morir y un agente especial del FBI ingresan en un quirófano para un trasplante de cara. Se trata de que el policía pueda infiltrarse en la banda para encontrar un arma biológica que el terrorista ha colocado en algún lugar de Los Ángeles. \nBad Boys  \n \nValoración rottentomatoes 96% puntuación de la audiencia \nDos policías de Miami solo tienen 72 horas para encontrar cien millones de dólares en heroína robados del almacén de evidencias de su propia comisaría.
URL:https://eldiainternacional.com/evento/dia-internacional-del-policia/
LOCATION:México\, Mexico
CATEGORIES:Enero
ATTACH;FMTTYPE=image/jpeg:https://eldiainternacional.com/wp-content/uploads/2023/01/dia-internacional-de-la-policia.jpg
END:VEVENT
END:VCALENDAR