BEGIN:VCALENDAR
VERSION:2.0
PRODID:-//eldiainternacional.com - ECPv6.15.20//NONSGML v1.0//EN
CALSCALE:GREGORIAN
METHOD:PUBLISH
X-WR-CALNAME:eldiainternacional.com
X-ORIGINAL-URL:https://eldiainternacional.com
X-WR-CALDESC:Eventos para eldiainternacional.com
REFRESH-INTERVAL;VALUE=DURATION:PT1H
X-Robots-Tag:noindex
X-PUBLISHED-TTL:PT1H
BEGIN:VTIMEZONE
TZID:America/Mexico_City
BEGIN:DAYLIGHT
TZOFFSETFROM:-0600
TZOFFSETTO:-0500
TZNAME:CDT
DTSTART:20220403T080000
END:DAYLIGHT
BEGIN:STANDARD
TZOFFSETFROM:-0500
TZOFFSETTO:-0600
TZNAME:CST
DTSTART:20221030T070000
END:STANDARD
END:VTIMEZONE
BEGIN:VEVENT
DTSTART;VALUE=DATE:20230101
DTEND;VALUE=DATE:20230102
DTSTAMP:20260425T065801
CREATED:20231010T232618Z
LAST-MODIFIED:20231011T002733Z
UID:502602-1672531200-1672617599@eldiainternacional.com
SUMMARY:Día de Año Nuevo
DESCRIPTION:Fecha de celebración:  1 de Enero \nQuién lo proclamó: El papa Gregorio XIII\nComenzó a celebrarse: 1582\n\nTodos celebramos el inicio de un nuevo año\, esta celebración mundial se ha celebrado desde hace miles de años\, aunque esta tradición comenzó celebrándose el 01 de Marzo\, pero pasando el tiempo esta festividad pasó a celebrarse el 01 de Enero. \n \n¿Cómo se originó?\nEl día de año nuevo ha tenido varias fechas\, pero fue hasta que el emperador Julio César\, en el año 46 a.C comenzó a hacer algunos cambios y pasó de celebrarse en Marzo al 01 de Enero\, sin embargo\, a lo largo de los años este día fue cambiando nuevamente de fecha. Fue hasta 1582 cuando el papa Gregorio XIII decidió que el día de año nuevo sería celebrado el primero de Enero\, dejando así la tradición que conocemos actualmente. \n¿Cuál es la Importancia del día?\nEl día de año nuevo marca el inicio de un nuevo ciclo\, desde las primeras celebraciones de esta festividad se ha buscado conmemorar un nuevo comienzo y una nueva historia. \n ¿Cómo celebrarlo y/o conmemorarlo?\n Ideas de qué hacer\nEl año nuevo se celebra en todo el mundo y si bien lo tradicional es hacer una cena/fiesta tu puedes celebrarlo a tu manera\, aquí enlisto ideas de qué puedes hacer para celebrarlo.  \n\nSi no te gusta cocinar ir a un restaurante es una gran opción\, aunque debes reservar con tiempo ya que mucha gente suele ir en este día.\nAsistir a una gran fiesta o incluso tú puedes hacerla e invitar a tus familiares y amigos.\nIr a algún lugar especial para ti y recibirlo ahí\, un gran ejemplo es la gente que asiste a Times Square y ver el show que preparan. \nHacer una cena tradicional y pasarla en casa\nAlgunas personas aprovechan esta fecha para estar viajando\, pues aseguran que es de buen augurio para viajar todo el año.\nAyudar en este día también es una opción\, puedes llevar comida caliente a personas en situación de calle y también a hospitales.\n\n Cómo celebrarlo en Redes Sociales\nCelebrar el día de año nuevo es muy común\, ya que puedes postear una galería de fotos de lo que fue tu año y poner un mensaje para despedirlo. Otra opción es hacer lo mismo\, pero en video o simplemente compartir una imagen con un texto referente al fin del año e inicio del año nuevo.  \n Cómo apoyar asociaciones o personas relacionadas con el día\nPuedes apoyar de muchas maneras\, una de ellas es hacer brigadas para llevar una cena de año nuevo a personas de escasos recursos\, situación de calle y para personas que pasen el año nuevo en hospitales\, así como para el personal médico que trabaja durante esta festividad.  \nSeguro en tu ciudad podrás encontrar instituciones o asociaciones que lo hagan\, si no existen\, tú puedes reunir a tus amigos y/o familiares y hacer esta bonita labor. \n Ideas de regalos\nAsí como en navidad o el día de los reyes magos se dan regalos\, hay lugares en los que se acostumbra recibir regalos en el día de año nuevo. Aquí te dejo opciones ideales para chicos y grandes.  \nUna agenda para lograr todo lo que te propongas este nuevo y tener todo bien organizado. \n \nComprar aquí \nUna pulsera Borreguito de la abundancia para dársela a alguien especial como un amuleto para la buena suerte. \n \nComprar aquí \nKit para decorar pulseras navideñas y regalárselas a tus seres queridos. \n \nComprar aquí \nLibros para que las personas mejoren sus propósitos de año. \n \nComprar aquí \nCámara digital para niños\, ideal para que guarden sus mejores recuerdos en este nuevo año. \n \nComprar aquí \n  \n¿Cuándo se celebra en otros países?\nEl día de año nuevo es una celebración universal\, es decir que en todo el mundo se celebra el mismo día. Aunque en países como China suelen celebrar el año nuevo chino. \nCómo se celebra en otros lugares \nEl día de año nuevo es una celebración universal\, es decir que en todo el mundo se celebra el mismo día.  \nSin embargo en todo el mundo se celebra de distintas formas. \nEn algunos países se acostumbra salir con tus maletas para esperar un nuevo año lleno de viajes. \n \n  \nEn varios países lo celebran con una gran espectáculo de fuegos artificiales  \n \n  \nEn países como México es tradición comerse 12 uvas que representan 12 deseos \n \n  \nEn Estados Unidos la gente acude a Times Square a recibir el año nuevo \n \n  \nEn Japón la gente cuelga adornos en sus puertas para recibir el año nuevo  \n \n  \nFrases y personalidades \n Frases \nEl año nuevo marca un comienzo y es ideal para compartir frases llenas de nuevos propósitos.  \nAquí te dejo 20 frases para celebrar la llegada del año nuevo: \n\nQue el Año Nuevo sea como un lienzo en blanco en el que podamos escribir con felicidad nuestro paso por la vida.\nTe deseo un nuevo año matemático: suma todo tipo de placeres\, resta cualquier tipo de dolor\, multiplica por mil la felicidad y divide el amor entre todos tus seres queridos. ¡Feliz Año!\nQuiero enviarte algo especial para esta Nochevieja\, pero tengo un problema: ¡no sé cómo se envuelve un abrazo\, un beso y todo mi cariño!\, ¡feliz Año!\nLa magia en los nuevos comienzos es verdaderamente la más poderosa de todas.\nQue el espíritu de esta fiesta te traiga esperanza y un nuevo y emocionante comienzo. ¡Feliz Año Nuevo!\nDemos la bienvenida a un nuevo año y una nueva oportunidad para mejorar nuestras vidas.\nAcércate al Año Nuevo con el propósito de encontrar las oportunidades ocultas en cada nuevo día. ¡Feliz Año Nuevo!\nMañana\, es la primera página en blanco de un libro de 365 páginas. Escribe una buena.\nEste nuevo año corre tras tus sueños. Si no los alcanzas\, ¡al menos adelgazas!\nPara la cena de Año Nuevo\, ¿el móvil va a la derecha o a la izquierda? ¡Feliz 2023! Y el móvil fuera de la mesa.\nDoce meses\, cuatro estaciones\, un corazón alegre y unos ojos soñadores. ¡Feliz Año Nuevo!\nPara qué esperar 365 días del año si podemos cambiar hoy\, si podemos cada día ser una mejor versión de nosotros mismos.\nGracias por permitirme haber caminado a tu lado este año\, que emoción seguirlo haciendo.\nQuiero verte conseguir todo lo que te propones. ¡Feliz año nuevo!\nQue este nuevo año que viene\, no te falten las risas y las sonrisas. El amor y el cariño y que siempre sepas que sin importar qué\, ahí voy a estar para ofrecerte un consejo y abrazo sincero. Te quiero.\nNo me hubiera gustado compartir este año con nadie más que contigo. ¡Feliz año nuevo!\nMe emociona lo que el siguiente año tiene para nosotros; me emociona saber que vamos a hacerlo juntos.\nEste nuevo año espero que la vida te sorprenda y te dejes sorprender.\n¡Feliz año nuevo! Que te sobren las alegrías y el cariño. Que siempre el amor sea más fuerte que el miedo.\nQue este nuevo año cumplas todo lo que te propongas y enfrentes todas las adversidades con una sonrisa y con la convicción única tuya.\n\n\nPersonalidades que apoyan este día\nEstas son algunas de las personalidades que posaron recibiendo el año nuevo \nSalma Hayek \n\n\n  \n\n\n\n\n\n\n\n\n\n\nVer esta publicación en Instagram\n\n\n\n\n\n\n\n\n\n\n\n\n\n\n\n\n\n\n\n\n\n\n  \nUna publicación compartida por Salma Hayek Pinault (@salmahayek) \n\n\n \nPenélope Cruz \n  \n\n\n  \n\n\n\n\n\n\n\n\n\n\nVer esta publicación en Instagram\n\n\n\n\n\n\n\n\n\n\n\n\n\n\n\n\n\n\n\n\n\n\n  \nUna publicación compartida por Penélope Cruz (@penelopecruzoficial) \n\n\n \nChiara Ferragni  \n  \n\n\n  \n\n\n\n\n\n\n\n\n\n\nVer esta publicación en Instagram\n\n\n\n\n\n\n\n\n\n\n\n\n\n\n\n\n\n\n\n\n\n\n  \nUna publicación compartida por Chiara Ferragni ✨ (@chiaraferragni) \n\n\n \nCristiano Ronaldo  \n  \n\n\n  \n\n\n\n\n\n\n\n\n\n\nVer esta publicación en Instagram\n\n\n\n\n\n\n\n\n\n\n\n\n\n\n\n\n\n\n\n\n\n\n  \nUna publicación compartida por Cristiano Ronaldo (@cristiano) \n\n\n \nDiego Boneta  \n  \n\n\n  \n\n\n\n\n\n\n\n\n\n\nVer esta publicación en Instagram\n\n\n\n\n\n\n\n\n\n\n\n\n\n\n\n\n\n\n\n\n\n\n  \nUna publicación compartida por Diego Boneta (@diego) \n\n\n \nLeo Messi \n  \n\n\n  \n\n\n\n\n\n\n\n\n\n\nVer esta publicación en Instagram\n\n\n\n\n\n\n\n\n\n\n\n\n\n\n\n\n\n\n\n\n\n\n  \nUna publicación compartida por Leo Messi (@leomessi) \n\n\n \n  \nImágenes para Compartir en Redes Sociales \n Posts para Facebook\nAquí tienes unas imágenes que son perfectas para postear en Facebook \n \n  \n \n  \n \n  \nPosts para Twitter\nAquí tienes unas imágenes que son perfectas para postear en Twitter \n \n  \n \n  \nPosts para Pinterest\nAquí tienes unas imágenes que son perfectas para postear en Pinterest \n \n  \n \n  \nDatos relevantes sobre el día \n Datos curiosos\n\nExiste una curiosa tradición de comer hojas verdes para tener mejor prosperidad durante el año nuevo\nLas personas suelen barrer sus casas al inicio del nuevo año para barrer las malas energías\nEn algunos países se acostumbra usar ropa interior de ciertos colores para pedir dinero o amor en el nuevo año\nEl 25 de marzo era considerado para los antiguos romanos como el año nuevo\nLa tradición de comer uvas como recuento de los últimos segundos del año viejo nació en España.\nHawai\, Howland y la isla de Baker son los últimos lugares del mundo que reciben el año nuevo\, esto por su zona horaria.\nEn 1904 se llevó a cabo la primera celebración en el famoso Times Square.\nLos Persas solían regalar en año nuevo\, huevos\, ya que estos simbolizaban productividad.\nEn Japón los habitantes suenan 108 veces las campanas haciendo referencia a los 108 pecados que existen para ellos\nEn México la gente tira lentejas como símbolo de prosperidad.\n\n  \nInfografías \n \n  \n \n  \n \n  \nMemes\nTenemos los mejores memes sobre el día de año nuevo \nAdmito que si soy \n \n  \n¿Quién más va a llegar así al año nuevo? \n \n  \nTodos lo hemos hecho \n \n  \n¿Quién más? \n \n  \nA veces pasa \n \n  \n \n  \nPelículas\nEl diario de Bridget Jones (2001)\nBridget es una mujer de treinta años que aún se encuentra soltera\, ha fracasado constantemente en el amor y por lo tanto tiene demasiados complejos. Uno de sus propósitos es encontrar al chico indicado y bajar de peso. El día de Año Nuevo dispuesta a cumplir sus deseos escribe un diario. \n \n  \nMedianoche en el Magnolia (2020)\nEsta película está ambientada en épocas decembrinas\, habla sobre la historia de Maggie y Jack dos grandes amigos desde la infancia\, se convierten en conductores de una estación de radio\, para generar más oyentes y popularidad fingen que son pareja.  \nAcerca del destino (2022)\nUna comedia romántica en donde dos personas que creen haber encontrado a su verdadero amor pasan por un momento inesperado que los lleva a una boda en Nochevieja para descubrir el verdadero significado de amar. \n \nNoche de fin de año (2011)\nHistorias entrelazadas prometen amor\, esperanza\, perdón\, segundas oportunidades y mucho más para un número de neoyorquinos en su noche de celebración. \n \nUna nochevieja Real (2017)\nSiguiendo la tradición\, el príncipe Jeffrey pedirá la mano de lady Isabelle en la gala que se celebrará en nochevieja. La redactora jefe de la revista de moda de mayor tirada está convencida de que su hija será la elegida para diseñar el vestido de la futura princesa.
URL:https://eldiainternacional.com/evento/dia-de-ano-nuevo/
CATEGORIES:Enero
ATTACH;FMTTYPE=image/jpeg:https://eldiainternacional.com/wp-content/uploads/2023/01/dia-de-ano-nuevo.jpg
END:VEVENT
BEGIN:VEVENT
DTSTART;VALUE=DATE:20230121
DTEND;VALUE=DATE:20230122
DTSTAMP:20260425T065801
CREATED:20231013T152957Z
LAST-MODIFIED:20231201T202858Z
UID:502686-1674259200-1674345599@eldiainternacional.com
SUMMARY:Día Internacional del Abrazo
DESCRIPTION:Fecha de que se celebra: 21 de Enero\nLo proclama: Kevin Zaborney \nComenzó a celebrarse:1986 \n\nTodos los 21 de Enero desde 1986 se celebra el día internacional del abrazo\, una fecha que se ha popularizado cada vez más durante el paso de los años cuando una famosa empresa de calendarios incluyó esta fecha en sus productos.  \n \n¿Cómo se originó?\nEl día internacional del abrazo nace cuando el psicólogo de la universidad de michigan Kevin Zaborney identificó que las personas pocas veces daban abrazos y pensó que si existía un día para abrazarse\, la sociedad sería más felíz ya que un abrazo reduce el estrés y ayuda a la salud mental\, emocional y física. \n¿Cuál es la Importancia del día?\nEl día internacional del abrazo se pensó para ayudar a las personas a sentirse menos estresados y por consecuencia ver un mejor resultado en las emociones\, como sentirse más felices. Este día también demuestra la importancia y lo que puede aportar una de las demostraciones afectivas más comunes como los abrazos\, que curiosamente a partir de la pandemia de covid 19 fueron prohibidos y era lo que más llegamos a anhelar de nuestros seres queridos.  \n ¿Cómo celebrarlo y/o conmemorarlo?\nAunque lo lógico para celebrar el día internacional del abrazo sería dar abrazos\, aquí te dejo una lista con ideas de actividades que puedes hacer para celebrarlo.  \n Ideas de qué hacer\n\nAbraza a tus seres queridos y diles cuánto los quieres. Si bien es algo que deberíamos hacer con frecuencia\, si eres de los que te cuesta demostrar afecto\, este día es el ideal para hacerlo.\nUna fiesta de abrazos\, la verdad es que este día es solo un pretexto para reunirte con tus amigos y/o familiares y pasar un rato agradable. \nSal y regala abrazos\, estoy segura que ya has visto a alguien en la calle haciendo esto. Ahora tu puedes hacer esto y tener una muy buena sensación\, no sabes quién pueda necesitar un abrazo. \nEnvía una tarjeta física o virtual\, este día además de un abrazo puedes enviar un bonito mensaje. \nDale un obsequio a esas personas especiales en tu vida\, un regalo y un gran abrazo seguro que mejorarán el día de cualquier persona. \n\nCómo celebrarlo en Redes Sociales\nSi no estás cerca de las personas que amas entonces las redes sociales son la herramienta perfecta para enviar un “abrazo virtual” estos que tanto se popularizaron estando en pandemia\, no es algo del otro mundo\, solo es demostrar tu cariño a esas personas con un mensaje\, una imagen o un video.  \nTambién puedes usar hashtags como #díainternacionaldelabrazo para encontrar más información que compartir.  \nCómo apoyar asociaciones o personas relacionadas con el día\nLa realidad es que no hay asociaciones que se dediquen solo a dar abrazos\, pero en este tipo de día puedes realizar acciones que se sienten igual o mejores que un abrazo\, como ser voluntario \, hacer una donación o brigadas para alimentar a las personas necesitadas.  \nOtra forma de dar tu apoyo es llevar esas aportaciones a lugares que brinden apoyo a niños como orfanatos y hospitales para hacerlos sentirse mejor con un buen abrazo. \n¿Cuándo se celebra en otros países?\nEl día internacional del abrazo se creó en Estados Unidos pero con el paso de los años se ha extendido de manera internacional\, y es por eso que el 21 de Enero se celebra en casi todo el mundo.  \n Cómo se celebra en otros lugares \nEn lugares como Londres es común ver a personas repartiendo abrazos\, como esta periodista que salió a las calles en el día internacional del abrazo.  \n \nEn Nueva York las personas salen a las calles con letreros de abrazos gratis y también hay un perrito el “hugging dog” al que puedes abrazar sin problema.  \n \nFrases y personalidades\n Frases de personalidades\nLas mejores frases para celebrar el día internacional del abrazo  \n\nSé el primero en dar un abrazo\, y serás el más abrazado. – Sajid Baig\nNo importa cuán largo sea un abrazo\, su duración nunca es la suficiente. – Kyle Schmalenberg \nSi la vida no me hubiera dado razones para conocer el dolor y la aflicción\, nunca hubiera conocido el poder de sanación de un abrazo. – Richelle E. Goodrich\nSiente la presencia del amor\, envuelta dentro de un abrazo. – Robert M. Hensel\nAbraza fuerte a tus amigos\, pero más a tus enemigos\, abrázalos tan fuerte que no puedan ni moverse. – Lyndon B. Johnson\nEso es lo que la gente que ama hace. Ponen sus brazos alrededor de ti y te ama\, aunque no seas muy adorable. – Deb Caletti\nTodos los días debemos de tener contacto con las personas. La gente adora un cálido abrazo\, o una palmada amistosa en la espalda . – Maya Angelou\nNo todas las cosas se pueden arreglar con un abrazo\, pero tampoco las puedes empeorar. – Dean Koontz\nLos abrazos son la forma más pura de dar y recibir. – Carol “CC” Miller\nReír juntos es lo más cercano posible de un abrazo sin tocarse. – Gina Barreca\nNo existe nada comparable al abrazo de una madre. – Terri Guillemets\nLos abrazos son la manera de Dios de recordarnos lo mucho que somos amados. – Gail Lynne Goodwin\nHay algo en los abrazos que siempre dan calidez al corazón\, nos da la bienvenida de regreso a casa y nos hace más fácil la partida. – Johnny Ray Ryder Jr\nExiste más poder en un fuerte abrazo que en mil palabras bien articuladas. – Ann Hood\nLos abrazos son una cosa impresionante. Son la manera perfecta de demostrar lo que sentimos cuando no encontramos las palabras para expresarlo. – Johnny Ray Rayder\n\nPersonalidades que apoyan este día\nAlejandro Sanz\nAlejandro Sanz compartió una frase sobre el día del abrazo. \n  \n\nTienes guardados abrazos que abarcan ciudades. #DíaInternacionalDelAbrazo \n— Alejandro Sanz (@AlejandroSanz) January 21\, 2022 \n \nClub Tigres Femenil\nEl club tigres femenil compartió esta foto de su equipo.  \n  \n\n✨ ¡Hoy en el #DíaInternacionaldelAbrazo les mandamos muchos abrazos virtuales! 🥰 pic.twitter.com/8PtOA86ud9 \n— Tigres Femenil 🐯 (@TigresFemenil) January 22\, 2022 \n \nRadio Disney\nLa cuenta de Radio Disney hizo esta encuesta en twitter sobre el día del abrazo.  \n  \n\nHoy es el #DíaInternacionaldelAbrazo 🤗❤️ ⁣\n¡Súmate arrobando a quien te gustaría abrazar hoy!⁣ 🥰\n⁣#DíaDelAbrazo pic.twitter.com/WsDf6uJRFm \n— Radio Disney México (@RadioDisneyMX) January 21\, 2022 \n \nPaloma Sánchez \nLa política Paloma Sánchez compartió estas imágenes. \n  \n\nEn el #DiaInternacionaldelAbrazo\, nada mejor que recibir los abrazos más tiernos\, sinceros y llenos de amor de parte de los seres que más amo\, ¡mis adorados padres! 🥰 pic.twitter.com/opFHiE7TEG \n— Paloma Sánchez (@palomaSnchez) January 21\, 2022 \n \nJulián Zacarías\nEl alcalde de Progreso Yucatán también celebró este día.  \n  \n\n🫂Hoy es el #DíaInternacionaldelAbrazo. \nNo olvides darle uno a tus seres queridos\, siempre cuidándonos y con las medidas de seguridad pertinentes. pic.twitter.com/ROuNHNruIJ \n— Julián Zacarías Curi (@JULIANZACARIASC) January 21\, 2022 \n \nLos Algodoneros \nEl equipo de beisbol Algodoneros compartió estas imágenes de sus jugadores. \n  \n\nLa ciencia dice que se necesitan 12 abrazos al día para ser feliz\, pero con uno del presi\, se te reinicia el día 😌😉 \n¿Cuántos abrazos llevas hoy? 🤔#DiaInternacionaldelAbrazo #SeguimosEnRevolución 💪🏻⚡️ pic.twitter.com/7W4WYhNt7P \n— Algodoneros Unión Laguna (@AlgodonerosUL) January 22\, 2022 \n \nPosts en Redes Sociales\nPosts para Facebook\n \n \nPosts para Twitter\n  \n\n¡Abrazar cura!💛💜 \nCuidar la salud mental y emocional de tu familia es muy importante en estos momentos de aislamiento social. \nHoy en el #DiaInternacionalDelAbrazo te compartimos algunos de sus beneficios. \n— Teletón México (@TeletonMexico) January 21\, 2022 \n \n  \n\n21 DE ENERO 🙅♀️🙅♀️#Diadelabrazo pic.twitter.com/1fSU61ECZ5 \n— SOY SUSY (@SOY_SUSY_SONRIE) January 21\, 2020 \n \nDatos relevantes sobre el día \n Datos curiosos\n\nUn abrazo de al menos 10 segundos puede causar reacciones bioquímicas y fisiológicas en el cuerpo que pueden mejorar significativamente la salud. Los abrazos reducen el riesgo de enfermedades cardíacas\nAbrazar puede reducir los niveles de estrés y combatir la fatiga\nLos abrazos nos ayudan a relajar los músculos y recargarnos de optimismo\, lo cual es bueno para nuestro cuerpo y nuestra mente.\nSegún un estudio realizado por investigadores de la Facultad de Psicología de la Universidad de Dundee\, el abrazo medio dura unos tres segundos.\nNecesitan cuatro abrazos al día para sobrevivir\, ocho abrazos para mantenernos y doce abrazos para crecer. Esto es lo que propone la psicóloga estadounidense Virginia Satir \nExisten 8 tipos de abrazos: abrazo clásico\, abrazo de baile\, abrazo con contacto visual\, abrazo de compañerismo\, Abrazo asimétrico\, Abrazo lateral\,Abrazo distante y abrazo violento. \n\n Imágenes\n \n \n Infografías\n \n \n \nRécords\nEl récord del abrazo más largo registrado fue el de cuatro parejas londinenses cuya duración fue de 24 horas y 43 minutos. Para lograr este nuevo récord\, debían aguantar más de 24 horas y 33 minutos\, que era el antiguo récord\, en el lugar elegido\, la estación de tren King’s Cross St. Pancras. \nRécord mundial de abrazo con más nacionalidades. Este récord se llevó a cabo con la finalidad de crear más paz y unidad tuvo lugar en en la ciudad de Culver City se concretó al reunir en un abrazo simultáneo\, de 21 segundos de duración\, a personas de 42 nacionalidades diferentes. \nMemes\nLos mejores y más chistosos memes sobre el día internacional del abrazo  \n \n \n \n \n Películas\nAbrazos icónicos del cine\nGhost la sombra del amor (1990)  \n \nEste abrazo entre Demi Moore y Patrick Swayze es uno de los más bonitos y románticos de la pantalla grande. \nEl hombre manos de tijera (1990) \n \nUn abrazo que nos hizo sentir todo el amor y cariño de esta historia  \nE.T. (1982) \n \nEl épico abrazo entre E.T. y Henry Thomas es sin duda uno de los mejores momentos en la historia del cine.  \nSecreto en la montaña (2005)\n \nEl abrazo entre los protagonistas de este filme Heath Ledger y Jake Gyllenhaal nos hizo llorar ante este amor imposible.  \nStars Wars Episodio VII (2015) \n \nVer a Carrie Fisher y Harrison Ford nos puso sentimentales a todos. \n  \n\n   Eventos Relacionados   \nEl día más triste del año
URL:https://eldiainternacional.com/evento/dia-internacional-del-abrazo/
CATEGORIES:Enero
ATTACH;FMTTYPE=image/jpeg:https://eldiainternacional.com/wp-content/uploads/2023/02/dia-del-abrazo.jpg
END:VEVENT
END:VCALENDAR