BEGIN:VCALENDAR
VERSION:2.0
PRODID:-//eldiainternacional.com - ECPv6.15.20//NONSGML v1.0//EN
CALSCALE:GREGORIAN
METHOD:PUBLISH
X-ORIGINAL-URL:https://eldiainternacional.com
X-WR-CALDESC:Eventos para eldiainternacional.com
REFRESH-INTERVAL;VALUE=DURATION:PT1H
X-Robots-Tag:noindex
X-PUBLISHED-TTL:PT1H
BEGIN:VTIMEZONE
TZID:America/Mexico_City
BEGIN:STANDARD
TZOFFSETFROM:-0600
TZOFFSETTO:-0600
TZNAME:CST
DTSTART:20230101T000000
END:STANDARD
END:VTIMEZONE
BEGIN:VEVENT
DTSTART;VALUE=DATE:20240706
DTEND;VALUE=DATE:20240707
DTSTAMP:20260421T155030
CREATED:20220819T184417Z
LAST-MODIFIED:20230920T005917Z
UID:126-1720224000-1720310399@eldiainternacional.com
SUMMARY:Día Internacional de Los Beatles
DESCRIPTION:Fecha de celebración: 6 de Julio  \n¿Quién lo proclamó?: Los fans de la banda  \n¿Desde cuándo se celebra? No se tiene la fecha exacta.  \nSi nos preguntan sobre una de las bandas más emblemáticas de la historia musical\, seguro más de uno pensaría en los Beatles y es porque eso que el cuarteto inglés no solo tienen una\, sino tres fechas en la que los fanáticos celebran la vida y carrera de John\, Paul\, Ringo y George. \nLos fans del grupo de rock nacido en la década de los 60 se reúnen y festejan a los Beatles los días el 16 de Enero (el más sonado como día internacional de los Beatles)\, 25 de Junio (Beatles Global Day)  también el 6 y 10 de Julio.  \n \n  \n¿Cómo se originó?\nLos Beatles fueron un fenómeno musical que traspasó fronteras en los años 60 y que sigue vigente en la actualidad\, teniendo como resultado que sus fans del todo mundo tomarán fechas de acontecimientos importantes de la banda y hacer de estas una celebración.  \nLa fecha más importante para los seguidores es el 16 de enero y tiene origen ya que fue este día cuando se inauguró el Cavern Club\, el lugar que vio nacer a los Beatles en su debut.  \nEn 2009 Faith Cohen\, destinó el 25 de Junio como el día global de los Beatles\, el 6 de Julio también se ha tomado como día de festejo con el motivo de conmemorar el día en el que John Lennon y Paul McCartney se conocieron.  \nPor último\, el 10 de Julio de 1964 fue el día en el que la agrupación volvía triunfante de su gira por América.  \nImportancia del día\nAunque el día internacional de los Beatles aún no ha sido confirmado de forma oficial\, millones de fanáticos conmemoran a la agrupación que cambió sus vidas\, así como el mensaje de amor y paz que dejaron a través de sus letras. \nLos fans ven estos días como la oportunidad de hacer que nuevas generaciones conozcan su música y así no dejar morir este fenómeno musical.  \n¿Cómo celebrarlo y/o  conmemorarlo?\nSi tu también eres fan de los antes llamados “fab four” entonces seguro querrás celebrar todos los días internacionales de los Beatles que existen. \nIdeas de qué  hacer\nLa mejor forma de celebrarlo es sin duda escuchar su música y puedes hacerlo de estas maneras:  \n\nHaciendo una reunión con tus amigos fans de la banda \nEscuchar sus álbumes \nIr a algún sitio emblemático de la banda \nBuscar alguna convención o fiesta sobre ellos (seguro en línea podrás encontrar mucho) \nDifundir el mensaje de amor y paz que los Beatles tenían siempre presentes\nVer alguna película sobre ellos \n\nCelebrarlo en Redes Sociales\nOtra manera de conmemorar este día es posteando algo sobre la banda en tus redes sociales\, desde una foto tuya con algún artículo de los Beatles o simplemente alguna imagen que te ayude a correr la voz sobre el día. \n \n \nComparte información sobre la Banda \n \nApoyar asociaciones o personas relacionadas con el día\nLa banda vio la luz cuando el mundo se estaba recuperando de lo que fuera la Segunda Guerra Mundial y la música parecía ser lo adecuada para pasarla mejor y buscaron a través de sus letras mandar un mensaje de paz\, igualdad y de como hacer al mundo un mejor lugar.  \nEs por eso que a lo largo de su carrera los integrantes hicieron donación a distintas causas alrededor del mundo\, aquí puedes encontrar el listado de asociaciones a las que ahora tú puedes hacer una contribución.  \nTambién los puedes celebrar en el día mundial del Rock \nRegalar algo a un fan \nAquí te dejo estas ideas de regalo que puedes hacerle a cualquier fan de los Beatles o si tu eres ese fan ¿qué tal un autorregalo? \nUna caja musical\n \nEste pequeño detalle seguro dejará feliz a cualquier fan \n  \nUna camiseta\n \nSin duda este es otro regalo que no tiene falla\, existen diferentes modelos aquí te dejo este  \nUna libreta/agenda\n \nIdeal para ese fan organizado \nPúas de guitarra \n \nSi eres músico o conoces a algún guitarrista segura estas púas serán el mejor regalo \nFunko Pop de John Lennon\n \nIdeal para los fans coleccionistas  \nFrases relacionadas con los Beatles \nLos Beatles nos dejaron tantas frases que siguen vigentes\, aquí te dejo algunas de las mejores:  \n\nNo hay nadie a quien puedas salvar que no pueda salvarse (All you need is love – The Beatles)\n\n\nMi independencia parece haberse desvanecido en la niebla (Help! – The Beatles)\n\n\n“Cuando hayas visto más allá de ti mismo\, entonces puedes encontrar la paz mental esperándote”. (George Harrison)\n\n\n“El amor es como una flor: dale tiempo y crecerá”. (John Lennon)\n\n\n“Y\, al final\, el amor que tomas es igual al amor que haces”. (Paul McCartney)\n\n\n“Cuenta tu edad por amigos\, no por años. Cuenta tu vida con sonrisas\, no con lágrimas”. (John Lennon)\n\n\n“Si no sabes adónde vas\, entonces cualquier camino te llevará allí”. (George Harrison)\n\n\n\n“Todo lo que toca el gobierno se convierte en basura”. (Ringo Starr)\n\n\n\n\n“¿Y qué sentido tiene cambiar si soy feliz como soy?” (Paul McCartney)\n\n\n  \nPersonalidades que son parte de la Beatlemanía\nLa fama mundial del cuarteto de Liverpool está presente en todos lados\, incluyendo a las celebs.  \nMark Hamill\n  \nLady Gaga\n  \nJim Carrey con Ringo Starr\n  \nKatie Holmes\n  \nChiara Ferragni\n  \nTambién te dejo este video con los 10 artistas más influenciados por los Beatles \n \nDatos relevantes sobre el día \nDatos curiosos de Los Beatles \n\nNo sabían leer partituras\, aunque son recordados como unos genios musicales\, los 4 no sabían cómo leerlas y aunque parezca muy raro\, se ha dicho que otras estrellas como Elvis y Michael Jackson tampoco tenían este talento. \nJohn Lennon estaba ebrio cuando conoció a Paul McCartney\, fue el segundo quien dijo que después de conocerlo en un concierto de The Quarrymen\, banda en la que tocaba John\, fueron a tomar algo\, sin embargo Lennon ya estaba ebrio. \nEl primer nombre de la banda fue “The Silver Beatles”\, e hicieron su primera gira por Escocia bajo ese nombre y fueron acompañados por Johnny Gentle.\nNo eran fans de los aviones\, se decía que los 4 temían volar\, en especial George Harrison quien le tenía pavor a los aviones. \nSu última presentación fue en una azotea \, el 29 de Agosto de 1966 hicieron su última aparición juntos en el Candlestick Park de  San Francisco\, Estados Unidos. \nRingo Starr no se llamaba Ringo\, su nombre real es Richard Starkey. \nFueron censurados muchas veces\, su música fue prohibida en la Unión Soviética y la BBC también prohibió pasar algunos de sus temas. \nQuisieron formar su propia comunidad\, entre sus deseos estaban comprar una isla y crear una comunidad libre conformada por familiares y amigos. \nTienen la canción más versionada del mundo\, Yesterday es uno de sus más grandes éxitos y también la canción que tiene hasta la fecha unas 1600 versiones. \nDisney World fue el lugar que los vio separarse\, John Lennon firmó la separación del grupo con el hotel Polynesian Village de fondo. \nProbaron LSD sin saberlo\, su dentista les dio esta droga sin que ellos tuvieran idea. \n\nRécords de los Beatles\n\nAlcanzaron la primera posición de la lista de los 100 Sencillos de Billboard con “I Want To Hold Your Hand”\, siendo la primera agrupación británica en lograrlo. La canción permaneció en esa posición durante siete semanas consecutivas.\nMayor cantidad de canciones en el top 5 de Billboard Hot 100 al mismo tiempo (5\, “Can’t Buy Me Love”\, “Twist And Shout”\, “She Loves You”\, “I Want To Hold Your Hand”\, “Please Please Me”)\nMayor cantidad de copias vendidas de un sencillo debut de una compañía discográfica (8 millones de copias vendidas del sencillo “Hey Jude”)\nCanción más versionada de la historia (“Yesterday”)\nMayor cantidad de semanas consecutivas en el N°1 con álbumes en el Billboard 200 (132)\nMayor cantidad de álbumes en el N°1 en el Billboard 200 (19)\nMayor cantidad de copias vendidas de un álbum doble en su primera semana de lanzamiento en los Estados Unidos(855\,473 de copias vendidas\, Anthology 1).\nMayor cantidad de álbumes con certificación de diamante por la RIAA (6\, Sgt. Pepper’s Lonely Hearts Club Band\, The Beatles\, Abbey Road\, 1962-1966\, 1967-1970\, 1).\nÁlbum N° 1 del Billboard 200 con más tiempo desde su ingreso (44 años y 27 días\, Rubber Soul).\nMayor cantidad de ventas en el planeta: Aproximadamente más 600 millones de copias a nivel mundial.\n\nPelículas sobre Los Beatles \n1. A Hard Day’s Night (1964)\nUna comedia musical protagonizada por los mismos John\, Ringo\, Paul y George que se narra durante la llamada Beatlemanía cuya trama es 36 horas en su vida. \n2. Yellow Submarine (1968) \nEsta película de animación marcó un hito en la historia de los filmes sobre la banda\, sin embargo\, ellos no fueron partícipes en el desarrollo de esta.  \n3. Locos por ellos (1978)  \nFue la primera película dirigida por Robert Zemeckis (Volver al futuro y Forrest Gump) y trata de 3 fans de los Beatles que los siguen por toda su gira en Estados Unidos. \n4. Sgt. Peppers Lonely Hearts Club Band (1978) \nEste es un tributo a Los Beatles que contó con la participación de grupos famosos como los Bee Gees\, Aerosmith\, Alice Cooper\, entre otros.  \n5. Mi nombre es Sam (2001)  \nUn drama que se basa en un hombre con discapacidad que no puede cuidar de su hija\, sin embargo\, a lo largo de la película se escuchan canciones de Los Beatles ya que Sam\, era todo un beatlemaniaco. 6. \n6. Across the universe (2007) \nAquí las letras de Los Beatles toman la pantalla grande a través de una historia lineal y bastante coherente.  \n7. Yesterday (2019) \nUna película que trata sobre Jack Malick un cantautor que es el único en recordar a Los Beatles y va por el mundo cantando sus canciones. ¿Qué pasaría si nadie los recordara? \nLugares que se hicieron famosos por la banda \nCavern club (Liverpool)\n \nFue el mítico club que los vio nacer y donde actuaron casi 300 veces\, fue el 16 de enero de 1957 cuando el club abrió\, fecha que originó el día más conocido para celebrarlos.  \nThe Beatles Platz (Hamburgo) \n \nUna plaza que alberga estatuas de tamaño real de los Beatles\, Hamburgo fue un lugar importante para la banda ya que fue ahí donde comenzaron a tocar antes de ser un fenómeno mundial.  \nAbbey Road (Londres) \n \nLa calle más emblemática y que fuera la locación para la portada del álbum con el mismo nombre\, esta calle está afuera de los famosos estudios Abbey Road  \n  \nMuro de John Lennon (Praga) \n \nFue después del asesinato de John en 1980 que el muro se fue llenando de arte y graffiti sobre el músico.  \nMemorial Strawberry Fields (Nueva York)\n \nSe encuentra en Central Park y está cerca del apartamento donde John Lennon fue asesinado.  \nThe Beatles Story Exhibition (Liverpool)\n \nEs la exposición permanente más grande dedicada a Los Beatles y está abierta a todos los fanáticos de la mítica banda británica.
URL:https://eldiainternacional.com/evento/dia-internacional-de-los-beatles/
LOCATION:Mundial
CATEGORIES:Julio
ATTACH;FMTTYPE=image/jpeg:https://eldiainternacional.com/wp-content/uploads/2022/08/dia-internacional-beatles.jpg
END:VEVENT
END:VCALENDAR