BEGIN:VCALENDAR
VERSION:2.0
PRODID:-//eldiainternacional.com - ECPv6.15.20//NONSGML v1.0//EN
CALSCALE:GREGORIAN
METHOD:PUBLISH
X-ORIGINAL-URL:https://eldiainternacional.com
X-WR-CALDESC:Eventos para eldiainternacional.com
REFRESH-INTERVAL;VALUE=DURATION:PT1H
X-Robots-Tag:noindex
X-PUBLISHED-TTL:PT1H
BEGIN:VTIMEZONE
TZID:America/Mexico_City
BEGIN:DAYLIGHT
TZOFFSETFROM:-0600
TZOFFSETTO:-0500
TZNAME:CDT
DTSTART:20220403T080000
END:DAYLIGHT
BEGIN:STANDARD
TZOFFSETFROM:-0500
TZOFFSETTO:-0600
TZNAME:CST
DTSTART:20221030T070000
END:STANDARD
END:VTIMEZONE
BEGIN:VEVENT
DTSTART;VALUE=DATE:20230706
DTEND;VALUE=DATE:20230707
DTSTAMP:20260421T141346
CREATED:20231020T170641Z
LAST-MODIFIED:20231201T202921Z
UID:502717-1688601600-1688687999@eldiainternacional.com
SUMMARY:Día Internacional del Beso
DESCRIPTION:Fecha de que se celebra: 6 de julio \nLo proclama: En honor al beso más largo registrado \nComenzó a celebrarse: 2013\n\nEl Día Internacional del Beso se estableció en 2013 para celebrar este acto universal que expresa amor y afecto\, y la importancia que tiene esta muestra de aprecio en nuestra sociedad.  \n¿Cómo se originó? \nEl día del beso debe su origen a un concurso realizado en Tailandia. En 2011\, la pareja de Ekkachai y Laksana Tiranarat\, de Bangkok\, consiguieron el récord mundial del beso más largo: 46 horas\, 24 minutos y 9 segundos.  \nPero\, no contentos con eso\, la misma pareja volvió a intentarlo dos años después. En 2013 rompieron su propio récord\, besándose por 58 horas\, 35 minutos y 58 segundos\, siendo elegida esta fecha para comenzar con la celebración anual del día del beso.  \nImportancia del día \nEl Día del Beso se trata de expresar el amor a través de uno de los símbolos más importantes de aprecio. \nEl arte de besar trasciende las normas culturales y el tiempo\, sin importar país o continente\, es un sinónimo de amor y cariño. Ya sea un beso cariñoso en la mejilla o un beso profundo.  \n¿Cómo celebrarlo y/o conmemorarlo?\nCelebra el Día Internacional del Beso\, dándoles a tus amigos y familiares un cariñoso beso en la mejilla. ¡Asegúrate de que estén de acuerdo!  \nTe compartimos algunas buenas ideas para celebrar el día del beso:  \n\nCome unos ricos chocolates Kisses de Hershey. \nDisfruta de un buen drama coreano\, lleno de muchos besos. \nDale un piquito a tu amado ser. \n\nCómo conmemorar este día en Redes Sociales \nUtiliza las redes sociales y participa en las siguientes dinámicas:  \n\nComparte historias y datos sobre el tema. \nComparte frases. \nCrea una lista de libros sobre el tema. \nComparte una playlist sobre el día. \n\nAquí te dejo algunas imágenes para compartir en tus redes sociales:  \n \n \n \nFrases y personalidades \nFrases de personalidades sobre el Día del beso \n-No fue un beso muy largo\, y desde luego no fue uno de esos de película\, pero fue maravilloso a su manera. Lo único que recuerdo es que\, cuando nuestros labios se rozaron\, tuve la certeza de que jamás olvidaría aquel instante (Nicholas Sparks)  \n-Cuán lejos se ven las estrellas\, y cuán lejos está nuestro primer beso\, y ¡ah\, cuán viejo es mi corazón! (William Butler Yeats)  \n -Un mundo nace cuando dos se besan (Octavio Paz)  \n– El primer beso de la madre enseña al niño amor\, el sagrado primer beso de la mujer que el hombre ama\, le enseña la esperanza y la fe en la vida (Giuseppe Mazzini)  \n– ¿No es un beso el verdadero autógrafo del amor? (Henry Theophilus Finck)  \n– Es la pasión que reside en un beso lo que le da su dulzura\, es el afecto en el beso lo que lo santifica (Christian Nestell Bovee)  \n– Los besos son un mejor destino que la sabiduría (E. E. Cummings)  \n– El alma que puede hablar a través de los ojos también puede besar con la mirada (Gustavo Adolfo Bécquer)  \n-Sé simple al vestir y sobrio en tu dieta; en resumen\, mi querido\, bésame y cállate (Mary Wortley Montagu)  \n -Todavía estoy esperando ese apasionado beso bajo la lluvia (Harry Styles)  \nPersonalidades que apoyan este día \nAntonio Banderas  \nEl actor lanza un reto a sus seguidoras más atrevidas. “El beso más largo duró 46 horas. ¿Lo podemos superar”?  \n  \n\nFeliz #DiaInternacionalDelBeso. El #beso más largo duro 46h. ¿Lo podemos superar? pic.twitter.com/RM6N7zPJ1k \n— Antonio Banderas (@antoniobanderas) April 13\, 2015 \n \nAtlas FC \nEl equipo de futbol mexicano celebró el día de beso publicando una foto en la red social de twitter: \n  \n\n¿Y tú a quién le dedicas este #DíaDelBeso? 😘❤️🖤 pic.twitter.com/UNIEUogG5v \n— Atlas FC (@AtlasFC) April 13\, 2022 \n \nRommel Pacheco  \nEl exclavadista y diputado Rommel Pacheco compartió una foto junto a su pareja y su perrito para celebrar el día del beso: \n  \n\nAsí celebramos el #DíadelBeso en familia. 😘👩🏻👦🏻🐶🐶 pic.twitter.com/vpS5e2nicI \n— Rommel Pacheco (@Rommel_Pacheco) April 14\, 2022 \n \nPosts Facebook\, Twitter\, Pinterest \nFacebook  \n \n \nTwitter  \n\n♡.•°`\n” Yo no quiero un beso así no más\, tan solo puesto\, colocado\nYo quiero un beso\,\nesparcido\ntallado\,\nQuiero un beso así Grabado\,\npermanentemente\nTATUADO…” .•°`♡ \n(MIVI)♡p#DiaInternacionalDelBeso #DiaDelBeso pic.twitter.com/IquvJtvvmm \n— ❀ 𝐀𝐫𝐞𝐥𝐲 ❀ (@AreSoloSuyaP) April 13\, 2022 \n \n  \n  \n\nHoy se celebra en Japón el #キスの日 (#DíaDelBeso) para conmemorar el estreno de la película ‘Hatachi no Seishun’ en 1946\, el primer film japonés en mostrar un beso. #CuriosidadesPSS\n¿Cuál es vuestro beso favorito dentro del shōjosei? pic.twitter.com/heYTeaVN54 \n— ❄️Pro Shōjo Spain❄️ (@shojospain) May 23\, 2022 \n \n  \n\nClaramente le tenés miedo al éxito\n.\n.#diseño #artedeldia #citadeldia #hablame #besos #diadelbeso pic.twitter.com/MwZnRIkHge \n— giucervella (@giucervella) April 13\, 2022 \n \n  \nDatos relevantes sobre el día del Beso \n\nUn beso libera varios neurotransmisores como la dopamina\, la epinefrina\, norepinefrina\, endorfina y oxitocina. Esta última es la hormona vinculada al apego y que podría ser la responsable química de las relaciones de largo plazo. \nAl besar liberamos el estrés\, ya que bajan los niveles de cortisol. \nLa mayoría de las personas recuerdan vívidamente su primer beso. \nPara las mujeres el beso es más importante en su fase fértil que en cualquier otro momento de su ciclo menstrual. \nSon 34 los músculos faciales que ponemos en movimiento cuando besamos apasionadamente. \n Cerramos los ojos al besar porque nuestras pupilas se dilatan. \n\nInfografías relacionadas al día del beso \nEl beso de Times Square\, al finalizar la segunda guerra mundial.  \n \n \n \n \n  \n \nEstadísticas \n Estadísticas relacionadas con el día del beso  \n\nEl dos por ciento de estadounidenses no han sido besados\, la mayoría de ellos es decir el 62% son hombres que tienen edad entre los 18 a 24 años o el 31% de 25 a 34 años. \nSolo el 46% de las culturas a lo largo de la historia se han involucrado en besos románticos. \nPasamos gran parte de nuestra vida basándonos: 20.160 minutos (14 días) de media. \n\n El 59% de los hombres y el 66% de las mujeres han dejado de estar interesados en alguien después de besarlos.  \nRécords \nEl 13 de abril celebramos el Día Internacional del beso\, conmemorando el beso más largo registrado en la historia que duró 58 horas\, 35 minutos y 58 segundos. La pareja tailandesa ganadora estaba conformada por Ekkachai y Laksana Tiranarat de Bangkok quienes rompieron el Récord Guinness Mundial.  \nPelículas y series famosas sobre besos \n Mi primer beso  \n \n77% puntuación de la audiencia en RottenTomatoes \nVada es una niña de 11 años que vive con su padre Harry\, viudo y propietario de la funeraria del pueblo. Cuando Harry comienza a enamorarse de Shelly\, una atractiva maquilladora que trabaja para él\, Vada hará todo lo posible para separarlos. Además\, este no será un verano cualquiera para la joven\, pues iniciará su paso hacia la adolescencia junto a su mejor amigo\, Thomas.  \nBesos más famosos en el cine\nCasablanca (1942) \nUn clásico sobre la historia de amor imposible de Rick y Elsa.  \n \n  \nVacaciones en Roma (1953).  \nUn periodista detrás de una princesa en una aventura\, con el debut de Audrey Hepburn. \n \n  \nDe aquí a la eternidad (1953).  \nUno de los besos más icónicos entre el sargento Warden y la esposa de su capitán Karen Holmes. \n \n  \nOficial y caballero (1982).  \nOtra escena icónica que se ha recreado en series como Friends y Los Simpsons\, es la de esta película con Richard Gere.  \n \nRomeo y Julieta (1996).  \nUn clásico entre los cinéfilos\, con uno de los besos más memorables de la pantalla grande. \n \nTitanic (1997).  \nLa hermosa historia de amor que marcó una época en el cine. Este fue un beso que aún es recordado y que marcó un clímax en la película.  \n \nLa Dama y el Vagabundo (1995) \nSi tuviéramos que incluir un beso de la historia del cine\, no podemos olvidarnos del más tierno\, el que se dan la Dama y el Vagabundo mientras comen espaguetis distraídos. \n \nGhost (1990) \nEsta es una de las escenas más dulces y dolorosas del cine\, el beso final entre los personajes de Demi Moore y Patrick Swayze. Un beso inolvidable. \n \nDiario de una pasión (2004) \nBesos que traspasan la pantalla: Ryan Gosling y Rachel McAdams se dieron un (célebre) beso bajo la lluvia con el que recibieron el premio de la MTV al mejor beso. Y luego\, se hicieron pareja. \n \n  \n\n   Eventos Relacionados   \nEl día más triste del año. Blue Monday
URL:https://eldiainternacional.com/evento/dia-internacional-del-beso/
CATEGORIES:Julio
ATTACH;FMTTYPE=image/jpeg:https://eldiainternacional.com/wp-content/uploads/2023/03/dia-de-beso.jpg
END:VEVENT
END:VCALENDAR