BEGIN:VCALENDAR
VERSION:2.0
PRODID:-//eldiainternacional.com - ECPv6.11.2//NONSGML v1.0//EN
CALSCALE:GREGORIAN
METHOD:PUBLISH
X-WR-CALNAME:eldiainternacional.com
X-ORIGINAL-URL:https://eldiainternacional.com
X-WR-CALDESC:Eventos para eldiainternacional.com
REFRESH-INTERVAL;VALUE=DURATION:PT1H
X-Robots-Tag:noindex
X-PUBLISHED-TTL:PT1H
BEGIN:VTIMEZONE
TZID:America/Mexico_City
BEGIN:STANDARD
TZOFFSETFROM:-0600
TZOFFSETTO:-0600
TZNAME:CST
DTSTART:20240101T000000
END:STANDARD
END:VTIMEZONE
BEGIN:VEVENT
DTSTART;VALUE=DATE:20240703
DTEND;VALUE=DATE:20240704
DTSTAMP:20260421T121558
CREATED:20221118T004811Z
LAST-MODIFIED:20231214T184359Z
UID:731-1719964800-1720051199@eldiainternacional.com
SUMMARY:Día Internacional Libre de Bolsas de Plástico
DESCRIPTION:Fecha de celebración 3 de Julio\nQuien lo proclamó: Gobiernos y organizaciones ambientalistas \nDesde cuándo se celebra o conmemora 2018\n\nTodos los 3 de Julio se celebra el día internacional libre de bolsas de plástico\, esta efeméride nace como una invitación a la sociedad para reflexionar y hacer conciencia sobre el grave problema ambiental\, así como hacer más esfuerzos con acciones individuales.  \n \n  \n¿Cómo se originó?\nLos gobiernos de distintos países\, así como organizaciones ambientalistas optaron por tener un día libre de bolsas de plástico.  \nEste día nace debido al alto nivel de contaminación\, donde las bolsas de plástico son las principales protagonistas\, ya que su consumo masivo ha provocado un gran problema ambiental.  \n¿Cuál es la Importancia del día?\nLo más importante de este día es crear conciencia sobre el uso excesivo de bolsas de plástico e informar a las personas sobre las alternativas que existen para reemplazarlas. \n También este día ha servido para visibilizar la gran contaminación y consecuencias que traen estos desechos\, principalmente en playas y océanos\, al ser una de las principales causas por las que la muerte de fauna marina ha incrementado en los últimos años. \n¿Cómo celebrarlo y/o  conmemorarlo?\nIdeas de qué hacer\nEste día más allá de celebrarse\, se conmemora y busca que las personas hagan algo de forma individual para fomentar el dejar de usar bolsas de plástico\, tu también puedes ser parte de esto con estas ideas: \n\nReduce el uso de bolsas desechables\, opta por  utilizar una bolsas reutilizables (biodegradable o de tela) o también lleva tu propio recipiente.\nReutiliza las bolsas viejas de plástico\, darle más de un uso es lo ideal.\nCrea un grupo de limpieza y vayan en búsqueda de bolsas de plástico que no se estén utilizando y busca la manera de darles una segunda vida.\nUtiliza carritos de mandado y evita guardar tus cosas en bolsas de plástico\nLleva recipientes lavables y reutilizables para llevar alimentos\, de preferencia de vidrio.\nEvita comprar productos envasados en bolsas de plástico. Si puedes comprar comida envasada en papel u otro material mejor.\nApoya a asociaciones dedicadas al cuidado del medio ambiente\, aquí puedes participar con Greenpeace México.\n\n¿Cómo celebrarlo en Redes Sociales?\nLas redes sociales son un gran medio masivo de comunicación y puedes hacer un buen uso de ellas al compartir este tipo de celebraciones\, aunque ya exista este día\, aún son pocas las personas que lo conocen.  \nEste es tu momento de aportar algo a esta causa\, cada 3 de Julio comparte alguna imagen\, foto\, frase\, etc. sobre el día libre de bolsas de plástico y ayuda a que este día tenga mayor difusión. \nEl cambio lo puedes hacer hoy mismo\, utilizar menos bolsas de plástico y reciclarlas\, solo así podremos hacer que este día desaparezca pronto. \nAquí te dejo algunas de más interesantes: \n \nfuente: rioceballos.gob.ar\nFuente: www.gob.mx\n  \nFuente: Universum30\nRegalar algunos artículos\nRecuerda que con muy poco estás siendo parte de una gran diferencia\, aquí te dejo estas opciones de regalo para sustituir a las bolsas de plástico.  \nBolsas reutilizables de silicona\nOlvídate de guardar alimentos en bolsas de plástico\, estas bolsas reutilizables de silicona son perfectas para mantener todo fresco en el refrigerador. \n \nhttps://www.amazon.com.mx/Salandens-almacenamiento-reutilizables-congelador-refrigerios/dp/B07ZNW4S19/  \nBolsas plegables\nEstas bolsas plegables son perfectas para cualquier tipo de compra\, además un plus es que puedes llevarlas sin ocupar tanto espacio y su estampado es lindo. \n \nhttps://www.amazon.com.mx/Reutilizables-MyDear-Ecologicas-Reciclables-Supermercado/dp/B07XG16RL7/  \nBolsas reutilizables\nLas bolsas de regalo de un solo uso son cosa del pasado\, estas bolsas reutilizables son más que ideales para dar regalos en épocas de festejos y estoy segura de que te lo agradecerán. \n \nhttps://www.amazon.com.mx/comestibles-reutilizables-brillantes-promocional-cumplea%C3%B1os/dp/B081CKZQBM/ \nbolsas de malla\nLas frutas y vegetales ya no van más en bolsas de plástico\, estas bolsas de malla son la mejor opción y ¡también puedes mojarlas! \n \nhttps://www.amazon.com.mx/reutilizables-producci%C3%B3n-almacenaje-comestibles-resistentes/dp/B07FRF4QB3/ \n \nhttps://www.amazon.com.mx/Ecologicas-Verduras-Supermercado-Reutilizables-Reusable/dp/B07F82LCDB/ \nBolsas reutilizables de Ziploc\nHasta Ziploc ya tiene bolsas reutilizables y son perfectas tanto para comida como para viajes.  \n \nhttps://www.amazon.com.mx/Ziploc-Brand-Boho-Collection-accesorios/dp/B084WQVH5Q/  \nDatos relevantes sobre el día \nLas bolsas de plástico fueron introducidas en los años setenta y  rápidamente se hicieron muy populares\, especialmente a través de su distribución gratuita en supermercados y otras tiendas. \n La mayor parte de estas bolsas no se reutilizan ni se reciclan y acaban en los basureros o en el mar. Esto ha alertado y ha despertado nuestra conciencia\, ya que una bolsa tarda décadas en degradarse\, lo que ha causado que miles de especies marinas mueren al año. \nEl origen del problema de las bolsas de plástico\nEn 1997 se dio la primera gran alerta sobre el daño que ocasionaba el uso excesivo de bolsas de plástico\, pues se descubrió una gran mancha de basura en el Pacífico\, que acumulaba  inmensas cantidades de desechos de plástico que amenazaban la vida marina.  \nTeniendo como principales víctimas a las tortugas\, esta especie confunde estos desechos  con medusas y se las comen. \nTras este análisis\, se detectó también que las bolsas de plástico y plásticos en generales\, podían llegar a recorrer largas distancias pues fue en las costas de las islas Galápagos donde se han encontrado desechos de plástico procedentes de Indonesia\, Filipinas\, Taiwán\, España\, México\, Perú\, así como de otras partes del mundo. \nEsto hizo que se despertara una alerta\, sin embargo fue hasta mediados de 2015 cuando se estimó que si esta tendencia continúa\, para 2050 tendremos cerca de 12\,000 millones de toneladas de desechos plásticos en los basureros y en la naturaleza. \nSu prohibición en el mundo \nTras las estimaciones y alertas sanitarias\, algunos países optaron por prohibir las bolsas de plástico de un solo uso.  \n \nEstados en México que prohíben las bolsas de plástico \n\nVeracruz.  En mayo de 2018 se aprobó una reforma a la Ley Estatal de Residuos Sólidos.\nNuevo León. Se aprobó el 22 de diciembre de 2017 y entró en vigor a partir del 25 de enero de 2020.\nBaja California Sur. Se aprobó el 25 de enero de 2019 y entró en vigor el 16 de septiembre de 2019.\nGuerrero. Se aprobó el 19 de marzo de 2019 y entró en vigor en septiembre del mismo año.\nChihuahua. En Agosto de 2018 se prohibió la distribución de popotes y el 16 de julio el uso de bolsas de plástico.\nOaxaca. El 11 de abril de 2019 se aprobó y entró en vigor al día siguiente 16 de marzo de 2019.\nSonora. Se aprobó el 25 de abril de 2018 y entró en vigor el 12 de diciembre de 2018.\nNayarit El 21 de mayo de 2019 comenzó a regir paulatinamente.\nJalisco. Se aprobó el  29 de septiembre de 2018 y entró en vigor en 2020.\nCiudad de México. Se aprobó el 9 de mayo de 2019 y entró en vigor en 2020.\n\nEstadísticas\nLas restricciones han provocado que la producción de bolsas de plástico se reduzca drásticamente\, así lo muestra esta estadística realizada por latercera.com: \nFuente: latercera.com\n  \nLatinoamérica también ha comenzado a implementar leyes que prohíben el empleo de las bolsas de plástico\, siendo Colombia y Uruguay los primeros en hacerlo en 2016. \nFuente: Larepublica.co\n  \nEl uso de las bolsas de plástico representa un peligro y causa de contaminación. De acuerdo a información de meganoticias.mx\, el 2.7% de los plásticos termina en los mares: \nFuente: Meganoticias.com\nPelículas sobre el día libre de bolsas de plástico\nSi quieres cambiar tus hábitos de consumo de plástico aquí te dejo algunos documentales que hablan del tema. \n\n\n\n\nIsla de plástico (2018) \nUna visión general de los problemas que enfrenta la gestión de residuos en la República Dominicana\, más específicamente plásticos. Ganador del “Mejor Documental” (2019) de La Silla\, República Dominicana. Producida por Gilberto Morillo\, Nashla Bogaert y David Maler. Dirigida por José María Cabral. \n\n\n\nBag It (2011) \nUn documental que nos hace reflexionar sobre nuestro consumo diario de plástico. ¿Es muy plástica tu vida?\n\n\n\nSmog of the Sea (2016) \n El científico marino Marcus Eriksen junto con Keith y Dan Malloy\, Jack Johnson\, Kimi Werner y el bodysurfer Mark Cunningham\, se encuentran en medio de la nada hasta chocarse con una realidad alarmante: las famosas islas de basura.\n\n\n\nA plastic ocean (2016) \nEn este documental se muestra la gran cantidad de basura\, en su mayoría plásticos\, que han ido contaminando los océanos y han amenazado la vida de miles de especies marinas. \n\n\n\n  \nPosts Facebook\, Twitter\, Pinterest \n\n\n  \n\n\n\n\n\n\n\n\n\n\nVer esta publicación en Instagram\n\n\n\n\n\n\n\n\n\n\n\n\n\n\n\n\n\n\n\n\n\n\n  \nUna publicación compartida de Loly in the sky (@lolyintheskyofficial) \n\n\n \n  \n\n\n  \n\n\n\n\n\n\n\n\n\n\nVer esta publicación en Instagram\n\n\n\n\n\n\n\n\n\n\n\n\n\n\n\n\n\n\n\n\n\n\n  \nUna publicación compartida de Grace Reyes | Cursos y Campings en la Amazonía (@gracecarolina.ec) \n\n\n \n  \n\n   Eventos Relacionados   \nDía del Árbol \n 
URL:https://eldiainternacional.com/evento/dia-internacional-libre-de-bolsas-de-plastico/
LOCATION:Mundial
CATEGORIES:Julio
ATTACH;FMTTYPE=image/jpeg:https://eldiainternacional.com/wp-content/uploads/2022/11/Dia-Internacional-Libre-de-Bolsas-de-Plastico-05.jpg
END:VEVENT
END:VCALENDAR